BEGIN:VCALENDAR
VERSION:2.0
PRODID:-//wp-events-plugin.com//7.2.3.1//EN
TZID:America/Detroit
X-WR-TIMEZONE:America/Detroit
BEGIN:VEVENT
UID:34940@arabamerica.com
DTSTART;TZID=America/Detroit:20250816T190000
DTEND;TZID=America/Detroit:20250816T210000
DTSTAMP:20250806T035428Z
URL:https://www.arabamerica.com/events/moroccan-caftan-birthday-with-abida
 t-rma-in-astoria-queens-ny-2/
SUMMARY:Moroccan Caftan Birthday with Abidat Rma in Astoria\, Queens NY
DESCRIPTION:\n\nGet ready to celebrate my birthday in style at my Moroccan 
 Caftan Birthday event with the amazing Abidat Rma! Join us at the Chian Fe
 deration for a night filled with music\, dancing\, and traditional Morocca
 n attire. Let's come together to create unforgettable memories and enjoy t
 he rich culture of Morocco right here in Astoria\, Queens NY. Don't miss o
 ut on this special event!
LOCATION:Chian Federation\, 4401 Broadway\, Astoria\, Queens\, NY \, 11103\
 , United States
GEO:40.757542;-73.915594
X-APPLE-STRUCTURED-LOCATION;VALUE=URI;X-ADDRESS=4401 Broadway\, Astoria\, Q
 ueens\, NY \, 11103\, United States;X-APPLE-RADIUS=100;X-TITLE=Chian Feder
 ation:geo:40.757542,-73.915594
END:VEVENT
BEGIN:VTIMEZONE
TZID:America/Detroit
X-LIC-LOCATION:America/Detroit
BEGIN:DAYLIGHT
DTSTART:20250309T030000
TZOFFSETFROM:-0500
TZOFFSETTO:-0400
TZNAME:EDT
END:DAYLIGHT
END:VTIMEZONE
END:VCALENDAR