BEGIN:VCALENDAR
VERSION:2.0
PRODID:-//wp-events-plugin.com//7.2.3.1//EN
TZID:America/Detroit
X-WR-TIMEZONE:America/Detroit
BEGIN:VEVENT
UID:34700@arabamerica.com
DTSTART;TZID=America/Detroit:20250716T180000
DTEND;TZID=America/Detroit:20250716T210000
DTSTAMP:20250702T232847Z
URL:https://www.arabamerica.com/events/moroccan-chicken-tagine-and-more-co
 oking-class-by-cozymeal-2/
SUMMARY:Moroccan Chicken Tagine and More! - Cooking Class by Cozymeal&#x212
 2\;
DESCRIPTION:LOS ANGELES\, LA\n\n&nbsp\;\n\nLocation provided after booking\
 n\nPhenomenal food and incredible company await you at the chef's table! J
 oin Cozymeal’s upcoming cooking class Join “Moroccan Chicken Tagine an
 d More!” with Chef Yasmina for an intimate 3-hour culinary experience an
 d 3-course meal.\n\nCozymeal offers a variety of culinary experiences\, in
 cluding cooking classes\, team building activities\, food tours and privat
 e chef services. We’ll give you a unique\, unforgettable experience host
 ed by incredible chefs and guides in over 70 cities across the U.S. and Ca
 nada. Book a culinary experience with Cozymeal and let us take care of the
  rest.
ATTACH;FMTTYPE=image/jpeg:https://www.arabamerica.com/wp-content/uploads/2
 025/07/morrocan_meal.png
END:VEVENT
BEGIN:VTIMEZONE
TZID:America/Detroit
X-LIC-LOCATION:America/Detroit
BEGIN:DAYLIGHT
DTSTART:20250309T030000
TZOFFSETFROM:-0500
TZOFFSETTO:-0400
TZNAME:EDT
END:DAYLIGHT
END:VTIMEZONE
END:VCALENDAR