BEGIN:VCALENDAR
VERSION:2.0
PRODID:-//wp-events-plugin.com//7.2.3.1//EN
TZID:America/Detroit
X-WR-TIMEZONE:America/Detroit
BEGIN:VEVENT
UID:34314@arabamerica.com
DTSTART;TZID=America/Detroit:20250426T190000
DTEND;TZID=America/Detroit:20250426T210000
DTSTAMP:20250419T044529Z
URL:https://www.arabamerica.com/events/moroccan-fundraiser-dinner/
SUMMARY:Moroccan Fundraiser Dinner
DESCRIPTION:LEXINGTON\, MA\n\nHelp Us Build Resilience with Women Rose Farm
 ers in Morocco\n\nJoin us for an unforgettable evening where taste meets 
 impact—and your presence can help protect a centuries-old tradition thre
 atened by climate change.\n\nIn partnership with the Social Justice Actio
 n Team of Follen Church and Dar Si Hmad\, a leading Moroccan environment
 al foundation\, Curio Spice Co. is raising crucial funds for the Rose O
 asis Project—a climate resilience initiative supporting women farmers in
  Morocco’s breathtaking Mgoun Valley. These farmers cultivate the Damas
 k rose\, a symbol of beauty and a lifeline for their community—now endan
 gered by drought and shifting weather patterns.\n\n&#x2728\; Why it matte
 rs:\nThe roses we source from this region—organically grown and hand-har
 vested by a women-run co-op—are not just ingredients. They are a source 
 of income\, empowerment\, and cultural heritage. Without urgent support\, 
 they could vanish.\n\n&#x1f33f\; What to expect:\n\n 	A feast of Morocca
 n food and drinks prepared by Curio Spice Co.\n 	A moving short document
 ary about the women of the Rose Valley\n 	A Q&amp\;A with Curio’s fou
 nder\, Claire Cheney\, on sourcing\, sustainability\, and how your suppor
 t makes a difference\, moderated by Maisy Rohrer\, Senior Program Manager 
 of local climate NGO Climable\n\n&#x1f4ab\; Your participation will direc
 tly support our goal of raising $17\,000 to fund climate-smart agricultu
 re—think regenerative soil practices\, water-saving tech\, and polycultu
 re—to help these women and their roses not just survive\, but thrive.\n
 \nCome for the flavors\, stay for the impact. This is more than a fundrai
 ser—it's a chance to be part of something beautiful and necessary.
ATTACH;FMTTYPE=image/jpeg:https://www.arabamerica.com/wp-content/uploads/2
 025/04/Screenshot-2025-04-18-215150.jpg
CATEGORIES:Morocco
LOCATION:Follen Church\, 755 Massachusetts Ave\, Lexington\, MA\, 02420\, U
 nited States
GEO:42.429879;-71.206813
X-APPLE-STRUCTURED-LOCATION;VALUE=URI;X-ADDRESS=755 Massachusetts Ave\, Lex
 ington\, MA\, 02420\, United States;X-APPLE-RADIUS=100;X-TITLE=Follen Chur
 ch:geo:42.429879,-71.206813
END:VEVENT
BEGIN:VTIMEZONE
TZID:America/Detroit
X-LIC-LOCATION:America/Detroit
BEGIN:DAYLIGHT
DTSTART:20250309T030000
TZOFFSETFROM:-0500
TZOFFSETTO:-0400
TZNAME:EDT
END:DAYLIGHT
END:VTIMEZONE
END:VCALENDAR