BEGIN:VCALENDAR
VERSION:2.0
PRODID:-//wp-events-plugin.com//7.2.3.1//EN
TZID:America/Detroit
X-WR-TIMEZONE:America/Detroit
BEGIN:VEVENT
UID:31517@arabamerica.com
DTSTART;TZID=America/Detroit:20230920T190000
DTEND;TZID=America/Detroit:20230920T210000
DTSTAMP:20230807T183446Z
URL:https://www.arabamerica.com/events/moroccan-inspired-dinner/
SUMMARY:Moroccan-Inspired Dinner
DESCRIPTION:Moroccan Menu by Chef Lamour Workman with "Mahia" Spirits Tasti
 ng by Nahmias et Fils\, a micro-distillery in Yonkers\, New York\n\nMezze 
 &amp\; Mahia Aperitifs\n\nMuhammara (Middle Eastern walnut and roasted red
  pepper dip)\, Whipped Feta\, Hummus\, Olives\, &amp\; Vegetables\n\nLamb 
 Da’Fina – Braised Lamb with Seasonal Vegetables\n\nFreekeh Pilaf with 
 Pistachio and Olives\n\nMarinated Fennel and Orange Salad with Merguez (Sp
 icy Sausage)\n\nMsemen Flatbread\n\n"Sfenj" Moroccan Donuts with Mahia-spi
 ked Cider
ATTACH;FMTTYPE=image/jpeg:https://www.arabamerica.com/wp-content/uploads/2
 023/08/Screen-Shot-2023-08-07-at-2.16.58-PM.png
CATEGORIES:Dinner,Hummus,Moroccan Cuisine,Moroccan Food
LOCATION:Wakeman Town Farm\, 134 Cross Highway \, Westport\, CT\, 06880\, U
 nited States
GEO:41.163205;-73.333841
X-APPLE-STRUCTURED-LOCATION;VALUE=URI;X-ADDRESS=134 Cross Highway \, Westpo
 rt\, CT\, 06880\, United States;X-APPLE-RADIUS=100;X-TITLE=Wakeman Town Fa
 rm:geo:41.163205,-73.333841
END:VEVENT
BEGIN:VTIMEZONE
TZID:America/Detroit
X-LIC-LOCATION:America/Detroit
BEGIN:DAYLIGHT
DTSTART:20230312T030000
TZOFFSETFROM:-0500
TZOFFSETTO:-0400
TZNAME:EDT
END:DAYLIGHT
END:VTIMEZONE
END:VCALENDAR