BEGIN:VCALENDAR
VERSION:2.0
PRODID:-//wp-events-plugin.com//7.2.3.1//EN
TZID:America/Detroit
X-WR-TIMEZONE:America/Detroit
BEGIN:VEVENT
UID:33654@arabamerica.com
DTSTART;TZID=America/Detroit:20241025T210000
DTEND;TZID=America/Detroit:20241025T233000
DTSTAMP:20241016T021243Z
URL:https://www.arabamerica.com/events/moroccan-night-by-art-beatz-and-lar
 tiste-in-orlando/
SUMMARY:Moroccan Night By Art Beatz and Lartiste in Orlando
DESCRIPTION:Come join us for a magical evening filled with the vibrant colo
 rs and flavors of Morocco! Get ready to dance the night away to the beats 
 of Art Beatz and Lartiste at the Fuma Lounge. Immerse yourself in the rich
  culture of Morocco . Don't miss out on this unforgettable experience!
ATTACH;FMTTYPE=image/jpeg:https://www.arabamerica.com/wp-content/uploads/2
 024/10/https-cdn.evbuc_.com-images-867936329-2355342406333-1-original.2024
 1006-204648.jpeg
LOCATION:FUMA Cigar & Hookah Lounge\, 5281 West Irlo Bronson Memorial Highw
 ay Kissimmee\, Orlando\, FL\,  34746\, United States
GEO:28.333616;-81.494948
X-APPLE-STRUCTURED-LOCATION;VALUE=URI;X-ADDRESS=5281 West Irlo Bronson Memo
 rial Highway Kissimmee\, Orlando\, FL\,  34746\, United States;X-APPLE-RAD
 IUS=100;X-TITLE=FUMA Cigar & Hookah Lounge:geo:28.333616,-81.494948
END:VEVENT
BEGIN:VTIMEZONE
TZID:America/Detroit
X-LIC-LOCATION:America/Detroit
BEGIN:DAYLIGHT
DTSTART:20240310T030000
TZOFFSETFROM:-0500
TZOFFSETTO:-0400
TZNAME:EDT
END:DAYLIGHT
END:VTIMEZONE
END:VCALENDAR