BEGIN:VCALENDAR
VERSION:2.0
PRODID:-//wp-events-plugin.com//7.2.3.1//EN
TZID:America/Detroit
X-WR-TIMEZONE:America/Detroit
BEGIN:VEVENT
UID:34557@arabamerica.com
DTSTART;TZID=America/Detroit:20250705T160000
DTEND;TZID=America/Detroit:20250705T190000
DTSTAMP:20250610T211316Z
URL:https://www.arabamerica.com/events/moroccan-tagine-cooking-class/
SUMMARY:Moroccan Tagine cooking class
DESCRIPTION:\n\nFrom the other side of the Mediterranean Sea\, right near t
 he bottle neck of Gibraltar lays Morocco. A small country with many influe
 nces.\n\n\n\n\n\n\n\n\n\n\n\n\n\n\n\n\n
ATTACH;FMTTYPE=image/jpeg:https://www.arabamerica.com/wp-content/uploads/2
 025/06/Screenshot-2025-06-11-at-12.10.24 AM.png
LOCATION:332 E Sondley Dr\, 332 East Sondley Drive\, Asheville\, North Caro
 lina\, 28805\, United States
GEO:35.624464;-82.497314
X-APPLE-STRUCTURED-LOCATION;VALUE=URI;X-ADDRESS=332 East Sondley Drive\, As
 heville\, North Carolina\, 28805\, United States;X-APPLE-RADIUS=100;X-TITL
 E=332 E Sondley Dr:geo:35.624464,-82.497314
END:VEVENT
BEGIN:VTIMEZONE
TZID:America/Detroit
X-LIC-LOCATION:America/Detroit
BEGIN:DAYLIGHT
DTSTART:20250309T030000
TZOFFSETFROM:-0500
TZOFFSETTO:-0400
TZNAME:EDT
END:DAYLIGHT
END:VTIMEZONE
END:VCALENDAR