BEGIN:VCALENDAR
VERSION:2.0
PRODID:-//wp-events-plugin.com//7.2.3.1//EN
TZID:America/Detroit
X-WR-TIMEZONE:America/Detroit
BEGIN:VEVENT
UID:36124@arabamerica.com
DTSTART;TZID=America/Chicago:20260418T143000
DTEND;TZID=America/Chicago:20260418T160000
DTSTAMP:20260401T005957Z
URL:https://www.arabamerica.com/events/moroccan-tea-workshop/
SUMMARY:Moroccan Tea Workshop
DESCRIPTION:Overview\n\n\n\n\n\nCelebrate Arab American Heritage Month with
  an adults-only Moroccan mint tea workshop exploring tradition\, culture a
 nd taste.\n\n\n\n\n\n\nLed by Youssef El Berrichi\, Director of Roots Acad
 emy in Morocco and professor of Arabic language and culture\, participants
  will learn the art of preparing authentic Moroccan mint tea and the cultu
 ral traditions behind it.\n\nThis adults-only workshop invites participant
 s to work in pairs to prepare their own pot of tea while practicing tradit
 ional techniques such as rinsing the leaves\, adding herbs and pouring in 
 the high-pour style.\n\n\n\n
ATTACH;FMTTYPE=image/jpeg:https://www.arabamerica.com/wp-content/uploads/2
 026/03/TEA.webp
LOCATION:Garland Central Library\, 625 Austin Street\, Garland\, TX\, 75040
 \, United States
GEO:32.914763;-96.638379
X-APPLE-STRUCTURED-LOCATION;VALUE=URI;X-ADDRESS=625 Austin Street\, Garland
 \, TX\, 75040\, United States;X-APPLE-RADIUS=100;X-TITLE=Garland Central L
 ibrary:geo:32.914763,-96.638379
END:VEVENT
BEGIN:VTIMEZONE
TZID:America/Chicago
X-LIC-LOCATION:America/Chicago
BEGIN:DAYLIGHT
DTSTART:20260308T030000
TZOFFSETFROM:-0600
TZOFFSETTO:-0500
TZNAME:CDT
END:DAYLIGHT
END:VTIMEZONE
END:VCALENDAR