BEGIN:VCALENDAR
VERSION:2.0
PRODID:-//wp-events-plugin.com//7.2.3.1//EN
TZID:America/Detroit
X-WR-TIMEZONE:America/Detroit
BEGIN:VEVENT
UID:34821@arabamerica.com
DTSTART;TZID=America/Detroit:20250807T183000
DTEND;TZID=America/Detroit:20250807T203000
DTSTAMP:20250729T174002Z
URL:https://www.arabamerica.com/events/moroccan-treasures-presentation-and
 -dinner/
SUMMARY:Moroccan Treasures Presentation and Dinner
DESCRIPTION:Join us on Thursday\, August 7th at Elaine’s as we welcome aw
 ard-winning author of 21 books/Chef Amy Riolo. You’ll enjoy a “Morocca
 n Treasures” presentation featuring a virtual culinary journey through M
 orocco’s cuisine and culture as well as a mouthwatering 4 - course Moroc
 can dinner made with Chef Riolo’s recipes. Chef Riolo will be joined by 
 Alex Safos\, Owner of Indigo Gazelle Tours\, to discuss their November 8-1
 6\, 2025 Morocco Cuisine &amp\; Culture Tour.” The evening will conclude
  with a Q &amp\; A session about the tour and book signing opportunity wit
 h the author.\n\nMenu:\n\nAppetizer:\n\nMoroccan Eggplant Salad\\\n\nCount
 ry-Style Bread\n\n&nbsp\;\n\nFirst Course:\n\nHarira Soup\n\n&nbsp\;\n\nMa
 in Course:\n\nLamb and Apple Tajine with Couscous\n\n&nbsp\;\n\nDessert:\n
 \nM'hencha/Fruit Filled Pastry with Vanilla Ice Cream\n\nMoroccan Mint Tea
 \n\n&nbsp\;\n\nPrice: $93.00\, including Moroccan mint tea\, tax\, and tip
 .\n\n&nbsp\;\n\nAbout the author:\n\nDame Amy Riolo isn’t just an award-
 winning chef\; she’s a culinary virtuoso. The best-selling author of 21 
 books\, television host\, and Mediterranean lifestyle ambassador was named
  Knight of the Order of the Star of Italy by the President of the Italian 
 Republic. From her ancestral homeland of Calabria\, Italy to kitchens arou
 nd the world\, she’s been hailed as “The Ambassador of Italian Cuisine
  in the US” by The Italian International Agency for Foreign Press\, “A
 mbassador of the Italian Mediterranean Diet” by the International Academ
 y of the Italian Mediterranean Diet\, “The Cook to the Kings” by the E
 gyptian newspaper El Ain\, and “Ambassador of Mediterranean Cuisine in 
 the World. In 2019\, Amy Riolo launched her own private label collection o
 f premium Italian imported culinary ingredients called Amy Riolo Selectio
 ns made by award-winning artisan companies in Italy. She co-leads small\,
  highly curated\, and private cuisine and culture tours to Greece and Moro
 cco with Alex Safos of Indigo Gazelle Tours.
ATTACH;FMTTYPE=image/jpeg:https://www.arabamerica.com/wp-content/uploads/2
 025/07/amy_rolo_dinn.png
LOCATION:Elaine's\, 208 Queen Street\, Alexandria\, VA\, United States
GEO:38.80654;-77.041357
X-APPLE-STRUCTURED-LOCATION;VALUE=URI;X-ADDRESS=208 Queen Street\, Alexandr
 ia\, VA\, United States;X-APPLE-RADIUS=100;X-TITLE=Elaine's:geo:38.80654,-
 77.041357
END:VEVENT
BEGIN:VTIMEZONE
TZID:America/Detroit
X-LIC-LOCATION:America/Detroit
BEGIN:DAYLIGHT
DTSTART:20250309T030000
TZOFFSETFROM:-0500
TZOFFSETTO:-0400
TZNAME:EDT
END:DAYLIGHT
END:VTIMEZONE
END:VCALENDAR