BEGIN:VCALENDAR
VERSION:2.0
PRODID:-//wp-events-plugin.com//7.2.3.1//EN
TZID:America/Detroit
X-WR-TIMEZONE:America/Detroit
BEGIN:VEVENT
UID:35419@arabamerica.com
DTSTART;TZID=America/Detroit:20251120T120000
DTEND;TZID=America/Detroit:20251120T133000
DTSTAMP:20251118T021127Z
URL:https://www.arabamerica.com/events/morocco-at-a-crossroads-youth-mobil
 ization-political-reform-and-regional-geopolitics/
SUMMARY:Morocco at a Crossroads: Youth Mobilization\, Political Reform\, an
 d Regional Geopolitics
DESCRIPTION:Arab Center Washington DC is convening a panel of experts to di
 scuss Morocco’s recent youth-led mobilizations\, their implications for
  democratic governance\, and the prospects for socio-economic equality and
  political reform.
ATTACH;FMTTYPE=image/jpeg:https://www.arabamerica.com/wp-content/uploads/2
 025/11/arab-america-photo.jpg
CATEGORIES:Foreign Policy,Morocco,Webinar,Zoom Event
END:VEVENT
BEGIN:VTIMEZONE
TZID:America/Detroit
X-LIC-LOCATION:America/Detroit
BEGIN:STANDARD
DTSTART:20251102T010000
TZOFFSETFROM:-0400
TZOFFSETTO:-0500
TZNAME:EST
END:STANDARD
END:VTIMEZONE
END:VCALENDAR