BEGIN:VCALENDAR
VERSION:2.0
PRODID:-//wp-events-plugin.com//7.2.3.1//EN
TZID:America/Detroit
X-WR-TIMEZONE:America/Detroit
BEGIN:VEVENT
UID:35237@arabamerica.com
DTSTART;TZID=America/Detroit:20251121T180000
DTEND;TZID=America/Detroit:20251121T200000
DTSTAMP:20251013T230701Z
URL:https://www.arabamerica.com/events/morocco-day-2025/
SUMMARY:MOROCCO DAY 2025
DESCRIPTION:ALEXANDRIA\, VA\n\n\n\n\n\n&#x1f680\; Morocco Day 2025: Busines
 s\, Innovation &amp\; Investment Opportunities\n\nJoin us for Morocco Day 
 2025\, a premier business and innovation event spotlighting Morocco’s ri
 sing role as a global hub for trade\, investment\, and technology. This ye
 ar’s program focuses on building powerful bridges between Moroccan Ameri
 cans and Morocco’s future through innovation\, strategic partnerships\, 
 and investment opportunities.\n\n&#x1f4c5\; Date: Friday\, November 21\, 2
 025\n&#x1f555\; Time: 6:00 PM – 8:00 PM\n&#x1f4cd\; Location: AV Actions
  Studio\, 3905 Wheeler Ave\, Alexandria\, VA 22304\n&#x1f9ed\; Panel Discu
 ssions\n\n 	Panel 1: The Digital Superhighway (IT &amp\; Technology)\nExpl
 ore Morocco’s digital future through key areas shaping innovation and tr
 ansformation:\n 	\n\n 	&#x1f510\; Cybersecurity\n 	&#x1f916\; AI &amp\; Di
 gital Transformation\n 	&#x1f4a1\; Business Innovation\n\n\n 	Panel 2: Inv
 esting in Morocco &amp\; Africa\nDive into investment trends\, venture cap
 ital\, and strategic partnerships driving growth across Morocco and the co
 ntinent:\n 	\n\n 	&#x1f4b0\; Venture Capital\n 	&#x1f91d\; Government &amp
 \; Private Sector Partnerships\n 	&#x1f30d\; AI &amp\; Digital Transformat
 ion\n 	&#x1f680\; Opportunities &amp\; Challenges\n\n\n 	Panel 3: Atlantic
  Bridges — Where Moroccan Americans Meet Morocco’s Future\nA dynamic c
 onversation on how the Moroccan diaspora is connecting innovation\, capita
 l\, and talent between the U.S. and Morocco to shape the future together.\
 n\n&#x1f30d\; What to Expect\n\n 	&#x1f4bc\; Business &amp\; Investment In
 sights from industry leaders\, innovators\, and policymakers\n 	&#x1f91d\;
  Strategic Networking with U.S. and Moroccan entrepreneurs\, investors\, a
 nd thought leaders\n 	&#x1f310\; Market Opportunities ahead of AFCON 2025 
 and the World Cup 2030\n 	&#x1f680\; Innovation Spotlights on digital tran
 sformation\, AI\, and cross-border ventures\n\n&#x1f4dd\; Why Attend\n\n 	
 Gain insider perspectives on Morocco’s rapidly evolving business and tec
 h ecosystem\n 	Build high-value connections with investors\, innovators\, 
 and diaspora leaders\n 	Explore opportunities for trade\, investment\, and
  digital innovation\n 	Be part of a forward-looking dialogue shaping U.S.
 –Morocco economic bridges\n\n\n\n\n\n\n\n\n\n
ATTACH;FMTTYPE=image/jpeg:https://www.arabamerica.com/wp-content/uploads/2
 025/10/https-cdn.evbuc_.com-images-1140848453-7071044237-1-original.202510
 01-020347.jpeg
LOCATION:AV Actions Studio\, 3905 Wheeler 2025 Ave  \, Alexandria\, VA\, 22
 304\, United States
GEO:38.808052;-77.099018
X-APPLE-STRUCTURED-LOCATION;VALUE=URI;X-ADDRESS=3905 Wheeler 2025 Ave  \, A
 lexandria\, VA\, 22304\, United States;X-APPLE-RADIUS=100;X-TITLE=AV Actio
 ns Studio:geo:38.808052,-77.099018
END:VEVENT
BEGIN:VTIMEZONE
TZID:America/Detroit
X-LIC-LOCATION:America/Detroit
BEGIN:STANDARD
DTSTART:20251102T010000
TZOFFSETFROM:-0400
TZOFFSETTO:-0500
TZNAME:EST
END:STANDARD
END:VTIMEZONE
END:VCALENDAR