BEGIN:VCALENDAR
VERSION:2.0
PRODID:-//wp-events-plugin.com//7.2.3.1//EN
TZID:America/Detroit
X-WR-TIMEZONE:America/Detroit
BEGIN:VEVENT
UID:34554@arabamerica.com
DTSTART;TZID=America/Detroit:20251003T190000
DTEND;TZID=America/Detroit:20251013T170000
DTSTAMP:20250610T194931Z
URL:https://www.arabamerica.com/events/morocco-familiarization-experience-
 from-dc/
SUMMARY:Morocco Familiarization Experience from DC
DESCRIPTION:\n\nJoin us for a fun-filled Morocco Familiarization trip from 
 DC\, where you'll immerse yourself in the vibrant culture and beauty of Mo
 rocco\n\n\n\n\n\n\n\n\n\nMorocco Familiarization Experience from DC\nJoin 
 us for an exciting journey to discover the vibrant culture\, breathtaking 
 landscapes\, and delicious cuisine of Morocco! This a once in a lifetime t
 rip that will depart from Dulles International Airport\, where you'll get 
 to see the true beauty of Morocco. Don't miss this opportunity to immerse 
 yourself in the magic of Morocco!\n\nRegister today for full booking detai
 ls!\n\nExperience an all-inclusive tour from Washington\, DC to Morocco! V
 isiting Casablanca\, Fez\, Marrakech\, and the Sahara Desert.\n\nTrip Date
 s: October 3-13\, 2025\n\nImmerse in Morocco’s culture\, flavors\, and s
 tunning landscapes—from camel and hot air balloon rides to delicious tag
 ines. This is the ultimate Moroccan experience!?\n\nAll Inclusive Pricing(
 Airfare Included):\n\nDouble Occupancy: $3\,350.00 per person\n\nSingle Oc
 cupancy: $4\,350.00 per person\n\nSubmit a $100 deposit to hold your spot!
  Remaining trip balance will be due on July 30\, 2025.\n\nAll Packages Inc
 lude:\n\n 	Round-trip airfare from Dulles International Airport\, Washingt
 on DC\n 	4-Star Accommodations\n 	Fully Escorted Tours\n 	Daily Breakfast 
 &amp\; Dinner\n 	One Night Luxury Sahara Desert Camping Experience\n\nRegi
 ster today for full booking details!\n\n\n\n\n\n
ATTACH;FMTTYPE=image/jpeg:https://www.arabamerica.com/wp-content/uploads/2
 025/06/Screenshot-2025-06-10-at-10.34.27 PM.png
END:VEVENT
BEGIN:VTIMEZONE
TZID:America/Detroit
X-LIC-LOCATION:America/Detroit
BEGIN:DAYLIGHT
DTSTART:20250309T030000
TZOFFSETFROM:-0500
TZOFFSETTO:-0400
TZNAME:EDT
END:DAYLIGHT
END:VTIMEZONE
END:VCALENDAR