BEGIN:VCALENDAR
VERSION:2.0
PRODID:-//wp-events-plugin.com//7.2.3.1//EN
TZID:America/Detroit
X-WR-TIMEZONE:America/Detroit
BEGIN:VEVENT
UID:34291@arabamerica.com
DTSTART;TZID=America/Detroit:20250510T193000
DTEND;TZID=America/Detroit:20250510T230000
DTSTAMP:20250413T052748Z
URL:https://www.arabamerica.com/events/mothers-day-tarab-night-party/
SUMMARY:Mother's Day Tarab Night Party
DESCRIPTION:LIVONIA\, MI\n\nJoin us to celebrate Mother's Day at the St. Ma
 ry cultural center\, featuring star Mohamad Subay.
ATTACH;FMTTYPE=image/jpeg:https://www.arabamerica.com/wp-content/uploads/2
 025/04/Screenshot-2025-04-12-223213.jpg
CATEGORIES:Arab Ameircan Event,Arab Food,Arab Singer
LOCATION:St Mary Cultural Center\, 18100 Merriman Rd\, Livonia\, MI\, 48152
 \, United States
GEO:42.418782;-83.354159
X-APPLE-STRUCTURED-LOCATION;VALUE=URI;X-ADDRESS=18100 Merriman Rd\, Livonia
 \, MI\, 48152\, United States;X-APPLE-RADIUS=100;X-TITLE=St Mary Cultural 
 Center:geo:42.418782,-83.354159
END:VEVENT
BEGIN:VTIMEZONE
TZID:America/Detroit
X-LIC-LOCATION:America/Detroit
BEGIN:DAYLIGHT
DTSTART:20250309T030000
TZOFFSETFROM:-0500
TZOFFSETTO:-0400
TZNAME:EDT
END:DAYLIGHT
END:VTIMEZONE
END:VCALENDAR