BEGIN:VCALENDAR
VERSION:2.0
PRODID:-//wp-events-plugin.com//7.2.3.1//EN
TZID:America/Detroit
X-WR-TIMEZONE:America/Detroit
BEGIN:VEVENT
UID:35372@arabamerica.com
DTSTART;TZID=America/Chicago:20251104T190000
DTEND;TZID=America/Chicago:20251104T213000
DTSTAMP:20251105T072024Z
URL:https://www.arabamerica.com/events/movie-night-at-the-acc/
SUMMARY:Movie Night at the ACC
DESCRIPTION:HOUSTON\, TEXAS\nWe are pleased to invite you to the Houston pr
 emiere of A State of Passion\, a documentary by Carol Mansour and Muna Kha
 lidi.\nThis screening is held in solidarity with the Palestine Cinema Days
  Festival\, whose activities in Palestine were suspended due to the ongoin
 g war on Gaza.\nA State of Passion has received three awards at the Cairo 
 International Film Festival\, including Best Documentary Film.
ATTACH;FMTTYPE=image/jpeg:https://www.arabamerica.com/wp-content/uploads/2
 025/11/Screen-Shot-2025-11-05-at-2.20.06-AM.png
LOCATION:Arab American Cultural & Community Center\, 10555 Stancliff Road\,
  Houston\, Texas \, 77099\, United States
GEO:29.656431;-95.566062
X-APPLE-STRUCTURED-LOCATION;VALUE=URI;X-ADDRESS=10555 Stancliff Road\, Hous
 ton\, Texas \, 77099\, United States;X-APPLE-RADIUS=100;X-TITLE=Arab Ameri
 can Cultural & Community Center:geo:29.656431,-95.566062
END:VEVENT
BEGIN:VTIMEZONE
TZID:America/Chicago
X-LIC-LOCATION:America/Chicago
BEGIN:STANDARD
DTSTART:20251102T010000
TZOFFSETFROM:-0500
TZOFFSETTO:-0600
TZNAME:CST
END:STANDARD
END:VTIMEZONE
END:VCALENDAR