BEGIN:VCALENDAR
VERSION:2.0
PRODID:-//wp-events-plugin.com//7.2.3.1//EN
TZID:America/Detroit
X-WR-TIMEZONE:America/Detroit
BEGIN:VEVENT
UID:31851@arabamerica.com
DTSTART;TZID=America/Detroit:20231103T183000
DTEND;TZID=America/Detroit:20231103T183000
DTSTAMP:20231101T164939Z
URL:https://www.arabamerica.com/events/museum-of-the-palestinian-people-pr
 esents-night-of-solidarity-community/
SUMMARY:Museum of the Palestinian People Presents: Night of Solidarity + Co
 mmunity
DESCRIPTION:WASHINGTON\, DC\n\n\n\n\n\n\n\n\n\n\n\n\n\n\n\n\nEvery year\, t
 he Museum of the Palestinian People community gathers to honor the vibrant
  arts\, history\, and culture of the Palestinian people. This year\, we ar
 e gathering with a heavy heart given the current events in Palestine as we
 ll as the pervasive negative bias against Palestinians in the mainstream m
 edia. We invite you to join us for a night of solidarity and community.\n\
 nEducating Americans about the Palestinian struggle amid the Israeli occup
 ation is key to reclaiming our narrative as Palestinians\, and is a corner
 stone of the museum's mission.\n\nPlease join us at the Patterson Mansion 
 in Dupont Circle on November 3\, 2023 at 6:30 p.m. for an evening of solid
 arity and community to support the Museum of the Palestinian People's miss
 ion to elevate the Palestinian story and experience in Washington\, D.C. T
 his event is in partnership with the Tabard Inn.\n\nWe are humbled to hono
 r Palestinian poet Mohammed Arafat\, who hails from Gaza and lives in Wash
 ington\, D.C.\, as he will join us for a reading of his poetry.\n\nThis ye
 ar's theme is "We are here." Palestinians are here in Washington\, D.C.\, 
 in Palestine\, and around the world. We are here to stand in solidarity wi
 th Palestinians and we are here to demand freedom\, justice\, and lasting 
 peace.\n\nWe are here to stay.\n\n\n\n\n\n\n\n\n\n\n\n\n\n\n\n\n\n\n\n\n\n
 \n\n\n\n\n\n\n\n\n\n\n\n\n\n\n\n\n\n\n\n\n\n\n\n\n\nOur keynote speaker is
  Darin J. Sallam\, an award-winning Jordanian writer and director of Pale
 stinian roots. Darin is the creator of "Farha\," a historical drama releas
 ed on Netflix in 2022 that weaves the story of a Palestinian family experi
 encing the Nakba in 1948.\n\nDarin's masterful storytelling exemplifies th
 e theme by centering the Nakba in "Farha" and bringing the Palestinian nar
 rative to a present-day audience.\n\n\n\n\n\n\n\n\n\n\n\n\n\n\n\n\n\n\n\n\
 n\n\n\n\n\n\n\n\n\n\n\n\n\n\n\n\n\n\n\n\n\n\n\n\n\n\n\nWe are also excited
  to spotlight D.C.-area Palestinian chefs and restauranteurs RAMMY-award w
 inner Marcelle G. Afram of Shababi Palestinian Rotisserie Chicken\, Dan
 ny Dubbaneh of Z&amp\;Z Bakery\, and Jinan Deena of Bayti. Marcelle\, D
 anny\, and Jinan have lifted up Palestinian cuisine in Washington\, D.C. a
 nd reclaimed Palestinian culinary cultural heritage. We are looking forwar
 d to honoring their contributions to the D.C. food scene.\n\n\n\n\n\n\n\n\
 n\n\n\n\n\n\n\n\n\n\n\n\n\n\n\n\n\n\n\n\n\n\n\n\n\n\n\n\n\n\n\n\n\n\n\n\n\
 n\n\n\n\n\n\n\n\n\n\n\n\n\n\n\n\n\n\nThe host of the evening is Salma Zah
 r\, an avid member of the Palestinian-American community\, where as early 
 as high school\, she was a young community organizer in the Philadelphia c
 hapter of New Generation for Palestine and now is a dabke instructor for h
 er daughter's Kids Mawtini Troupe with Palestine Foundation in Los Angeles
 . Salma is also the chair of her Employee Diversity Network\, organizing A
 rab American Heritage Month events for financial services firm UBS\, where
  she is currently Market Director for Los Angeles &amp\; Pasadena.\n\n\n\n
 \n\n\n\n\n\n\n\n\n\n\n\n\n\n\n\n\n\n\n\n\n\n\n\n\n\n\n\n\n
ATTACH;FMTTYPE=image/jpeg:https://www.arabamerica.com/wp-content/uploads/2
 023/11/Gala-main-image-2023-web-2.png
LOCATION:Patterson Mansion\, 15 Dupont Circle NW\, Washington\, DC\, 20036\
 , United States
GEO:38.909921;-77.042369
X-APPLE-STRUCTURED-LOCATION;VALUE=URI;X-ADDRESS=15 Dupont Circle NW\, Washi
 ngton\, DC\, 20036\, United States;X-APPLE-RADIUS=100;X-TITLE=Patterson Ma
 nsion:geo:38.909921,-77.042369
END:VEVENT
BEGIN:VTIMEZONE
TZID:America/Detroit
X-LIC-LOCATION:America/Detroit
BEGIN:DAYLIGHT
DTSTART:20230312T030000
TZOFFSETFROM:-0500
TZOFFSETTO:-0400
TZNAME:EDT
END:DAYLIGHT
END:VTIMEZONE
END:VCALENDAR