BEGIN:VCALENDAR
VERSION:2.0
PRODID:-//wp-events-plugin.com//7.2.3.1//EN
TZID:America/Detroit
X-WR-TIMEZONE:America/Detroit
BEGIN:VEVENT
UID:35579@arabamerica.com
DTSTART;TZID=America/Detroit:20260204T163000
DTEND;TZID=America/Detroit:20260204T183000
DTSTAMP:20251216T184500Z
URL:https://www.arabamerica.com/events/museum-politics-in-the-gulf-celebra
 ting-the-publication-of-art-capital-a-crown-seminar-with-beth-derderian-in
 -conversation-with-andrew-mcclellan-and-attiya-ahmad/
SUMMARY:Museum Politics in the Gulf: Celebrating the Publication of Art Cap
 ital A Crown Seminar with Beth Derderian\, in conversation with Andrew McC
 lellan and Attiya Ahmad
DESCRIPTION:
ATTACH;FMTTYPE=image/jpeg:https://www.arabamerica.com/wp-content/uploads/2
 025/12/20th-735x490-1.jpg
LOCATION:Mandel Atrium\, Mandel Center for the Humanities\, Waltham\, MA\, 
 02453\, United States
GEO:42.369776;-71.258295
X-APPLE-STRUCTURED-LOCATION;VALUE=URI;X-ADDRESS=Mandel Center for the Human
 ities\, Waltham\, MA\, 02453\, United States;X-APPLE-RADIUS=100;X-TITLE=Ma
 ndel Atrium:geo:42.369776,-71.258295
END:VEVENT
BEGIN:VTIMEZONE
TZID:America/Detroit
X-LIC-LOCATION:America/Detroit
BEGIN:STANDARD
DTSTART:20251102T010000
TZOFFSETFROM:-0400
TZOFFSETTO:-0500
TZNAME:EST
END:STANDARD
END:VTIMEZONE
END:VCALENDAR