BEGIN:VCALENDAR
VERSION:2.0
PRODID:-//wp-events-plugin.com//7.2.3.1//EN
TZID:America/Detroit
X-WR-TIMEZONE:America/Detroit
BEGIN:VEVENT
UID:35778@arabamerica.com
DTSTART;TZID=America/Detroit:20260131T170000
DTEND;TZID=America/Detroit:20260131T203000
DTSTAMP:20260128T013658Z
URL:https://www.arabamerica.com/events/mushtari-cafe-poetry-reading-donati
 ons-for-palestinian-families/
SUMMARY:Mushtari Cafe Poetry Reading (Donations for Palestinian Families!)
DESCRIPTION:Overview\n\n\nCome in and sign up to read poems\, prose poetry\
 , monologues\, get your portrait drawn and enjoy great food! Theme is "Lib
 eration".\n\n
ATTACH;FMTTYPE=image/jpeg:https://www.arabamerica.com/wp-content/uploads/2
 026/01/image-12.webp
LOCATION:34 West 126th Street\, 34 West 126th Street\, New York\, NY\, 1002
 7\, United States
GEO:40.807513;-73.943241
X-APPLE-STRUCTURED-LOCATION;VALUE=URI;X-ADDRESS=34 West 126th Street\, New 
 York\, NY\, 10027\, United States;X-APPLE-RADIUS=100;X-TITLE=34 West 126th
  Street:geo:40.807513,-73.943241
END:VEVENT
BEGIN:VTIMEZONE
TZID:America/Detroit
X-LIC-LOCATION:America/Detroit
BEGIN:STANDARD
DTSTART:20251102T010000
TZOFFSETFROM:-0400
TZOFFSETTO:-0500
TZNAME:EST
END:STANDARD
END:VTIMEZONE
END:VCALENDAR