BEGIN:VCALENDAR
VERSION:2.0
PRODID:-//wp-events-plugin.com//7.2.3.1//EN
TZID:America/Detroit
X-WR-TIMEZONE:America/Detroit
BEGIN:VEVENT
UID:35417@arabamerica.com
DTSTART;TZID=America/Detroit:20251205T180000
DTEND;TZID=America/Detroit:20251205T210000
DTSTAMP:20251118T015034Z
URL:https://www.arabamerica.com/events/music-is-life-with-rachel-mousse-an
 d-help-us-raise-money-for-mohammed/
SUMMARY:Music is Life with Rachel Mousse and Help us Raise Money for Mohamm
 ed
DESCRIPTION:\n\nOverview\n\n\n\n\n\nWe are Coming together in our Music is 
 Life event to raise money for Mohammed\n\n\n\n\nJoin us for the debut of o
 ur monthly event series on the first Fridays - Music Is Life - an evening 
 of Music centered around community\, connection and the healing power of t
 he sound of music. December's featured artist is the amazing Rachel Mousie
  who inspired us with her stand for helpign others and the idea of chargin
 g a cover for a cause.\n\nTickets are $20 for One or $30 for Two - all pro
 cedes in December go to help Mohammed Abu Kwaik in Gaza\, who lived with o
 ur SoHza family as a boy when he was being treated for burn wounds at Shri
 ner's center. He later attended St. X highschool and became a part of our 
 family and our communtiy. He is now grown with a family of his own and the
 y are stranded in Gaza after being displaced for the last two years by the
  war.\n\nWith the cease fire the tent city they had lived in in Rafah with
  some acces to food\, clean water and decent shelter from the elements was
  taken down and they returned to Gaza City only to find a pile of rubble w
 here their home once stood...and yet still this family has hope. Mohammed 
 himself is a writer and a poet and his words inspire us all. More of Moham
 med's story and SoHza's connection to him is highlighted in the videos bel
 ow.\n\nOn Decmeber 5th we shine a light on hope and healing and we invite 
 you to join us in lifting up this family and circling our community around
  this cause and the difference we can all make\, as helpless as we may fee
 l from timem to time. We hope you will choose to join us and invite others
  - the more the merrier. Come when you can\, leave when you must. As alway
 s food &amp\; drink will be shared. Bring a dish\, if you like\, but don't
  let that stop you from coming and partaking in the potluck. We can't wait
  to see you!\n\nhttps://www.facebook.com/share/v/1Djqn6VxPn/\n\nhttps://go
 fund.me/805047019\n\nhttps://youtu.be/HFUygDciiiQ\n\n\n\n\n\n
LOCATION:soHza sister boutique\, 124 West Pike Street\, Covington\, KY\, 41
 011\, United States
GEO:39.083047;-84.5126
X-APPLE-STRUCTURED-LOCATION;VALUE=URI;X-ADDRESS=124 West Pike Street\, Covi
 ngton\, KY\, 41011\, United States;X-APPLE-RADIUS=100;X-TITLE=soHza sister
  boutique:geo:39.083047,-84.5126
END:VEVENT
BEGIN:VTIMEZONE
TZID:America/Detroit
X-LIC-LOCATION:America/Detroit
BEGIN:STANDARD
DTSTART:20251102T010000
TZOFFSETFROM:-0400
TZOFFSETTO:-0500
TZNAME:EST
END:STANDARD
END:VTIMEZONE
END:VCALENDAR