BEGIN:VCALENDAR
VERSION:2.0
PRODID:-//wp-events-plugin.com//7.2.3.1//EN
TZID:America/Detroit
X-WR-TIMEZONE:America/Detroit
BEGIN:VEVENT
UID:34813@arabamerica.com
DTSTART;TZID=America/Detroit:20250802T133000
DTEND;TZID=America/Detroit:20250802T150000
DTSTAMP:20250728T201646Z
URL:https://www.arabamerica.com/events/music-jam-session/
SUMMARY:Music Jam Session
DESCRIPTION:ATLANTA\, GEORGIA\n\n\n\nAt Alif Institute:\n3288 Marjan Dr. At
 lanta\, GA 30340\n\nFREE &amp\; OPEN TO THE PUBLIC!\n\n\nUpcoming dates: A
 ugust 2\, September 6\, November 1\n\nCalling all musicians who play Arabi
 c music! Starting on March 1\, come to Alif Institute on the 1st Saturday 
 of each month from 1:30 pm – 3 pm to meet other musicians and jam.\n\nAl
 l instruments and levels are welcome. This is an informal gathering to hav
 e fun and get to know other Arabic music enthusiasts. Invite your friends
  and help us spread the word about this new way to connect with Arabic cul
 tures.
ATTACH;FMTTYPE=image/jpeg:https://www.arabamerica.com/wp-content/uploads/2
 025/07/musicccc.jpeg
LOCATION:Alif Institute\, 3288 Marjan Dr.\,\, Atlanta\, 30340\, United Stat
 es
GEO:33.884774;-84.26457399999998
X-APPLE-STRUCTURED-LOCATION;VALUE=URI;X-ADDRESS=3288 Marjan Dr.\,\, Atlanta
 \, 30340\, United States;X-APPLE-RADIUS=100;X-TITLE=Alif Institute:geo:33.
 884774,-84.26457399999998
END:VEVENT
BEGIN:VTIMEZONE
TZID:America/Detroit
X-LIC-LOCATION:America/Detroit
BEGIN:DAYLIGHT
DTSTART:20250309T030000
TZOFFSETFROM:-0500
TZOFFSETTO:-0400
TZNAME:EDT
END:DAYLIGHT
END:VTIMEZONE
END:VCALENDAR