BEGIN:VCALENDAR
VERSION:2.0
PRODID:-//wp-events-plugin.com//7.2.3.1//EN
TZID:America/Detroit
X-WR-TIMEZONE:America/Detroit
BEGIN:VEVENT
UID:36114@arabamerica.com
DTSTART;TZID=America/New_York:20260501T190000
DTEND;TZID=America/New_York:20260501T203000
DTSTAMP:20260331T191044Z
URL:https://www.arabamerica.com/events/music-of-arabian-spain-with-david-r
 ogers/
SUMMARY:Music of Arabian Spain with David Rogers
DESCRIPTION:\n\n\nWELLFLEET\, MA\n\nJoin David Rogers for this solo concert
  performance on Friday\, May 1st at 7pm.\n\n\n\n\n\n\nWashington Post-prai
 sed guitarist David Rogers explores the musical landscape of 16th-century 
 Spain through the lens of Valencian court musician Luis Milán.\n\nThis pr
 ogram blends Arab and European influences with an organic\, improvisationa
 l spirit that is both historically rich and deeply moving.\nAlso featured 
 will be Sephardic and North African music that originates in the Andalusia
 n traditions. The second part of the program will feature 20th and 21st ce
 ntury Spanish music which blends these traditions to make the Spanish and 
 Flamenco music of today.\n\nTermed\, 'a prominent guitarist\,' by the New 
 York Times\, David Rogers maintains an active solo and ensemble career as 
 a classical guitarist and performer on early plucked strings. The Washingt
 on Post has praised his ‘astonishingly florid’ solo improvisational pa
 ssage work. He has been called a 'modern master’ of the classical guitar
 ' by 20th Century Guitar. Classics today.com has praised his ‘first rate
  instrumental artistry\,’ and the Lute Society of America Quarterly has 
 called his technique ‘formidable.’ He is an endorsing artist for Aquil
 a Strings\, (Italy) and his compositions has been featured in major guitar
  magazines such as Fingerstyle Guitar in the United States and Akustic Git
 arre in Germany.\n\nDavid has recorded for Dorian\, Callisto and Focus Rec
 ordings. He has taught master classes throughout North America\, including
  the San Francisco Conservatory\, The University of Southern California an
 d The Interlochen National Arts Camp.\n\nARTIST LINK:\nDavid Rogers:\nhttp
 ://www.davidrogersguitar.com/\n\nVIDEOS:\nFolia: https://www.youtube.com/w
 atch?v=rJ8qK4yp0iI&amp\;list=RDrJ8qK4yp0iI&amp\;start_radio=1\nAn Ocean Wi
 thout Shores: https://www.youtube.com/watch?v=utwmZ0doBSw\nNorth African/A
 ndalusian: https://www.youtube.com/watch?v=lJOO0HQDuzg\nTriste Estava:\nht
 tps://www.youtube.com/watch?v=v1jjRPK1qy8\nSoleares: https://www.youtube.c
 om/watch?v=WunTzGdL__o&amp\;list=RDWunTzGdL__o&amp\;start_radio=1\nAsturia
 s:\nhttps://www.youtube.com/watch?v=KXzvlO5_W88\n\n\n
ATTACH;FMTTYPE=image/jpeg:https://www.arabamerica.com/wp-content/uploads/2
 026/03/image-1-2.webp
LOCATION:Wellfleet Preservation Hall\, 335 Main St\, Wellfleet \, MA \, 026
 67\, United States
GEO:41.938506;-70.032465
X-APPLE-STRUCTURED-LOCATION;VALUE=URI;X-ADDRESS=335 Main St\, Wellfleet \, 
 MA \, 02667\, United States;X-APPLE-RADIUS=100;X-TITLE=Wellfleet Preservat
 ion Hall:geo:41.938506,-70.032465
END:VEVENT
BEGIN:VTIMEZONE
TZID:America/New_York
X-LIC-LOCATION:America/New_York
BEGIN:DAYLIGHT
DTSTART:20260308T030000
TZOFFSETFROM:-0500
TZOFFSETTO:-0400
TZNAME:EDT
END:DAYLIGHT
END:VTIMEZONE
END:VCALENDAR