BEGIN:VCALENDAR
VERSION:2.0
PRODID:-//wp-events-plugin.com//7.2.3.1//EN
TZID:America/Detroit
X-WR-TIMEZONE:America/Detroit
BEGIN:VEVENT
UID:32306@arabamerica.com
DTSTART;TZID=America/Detroit:20240307T080000
DTEND;TZID=America/Detroit:20240307T110000
DTSTAMP:20240222T161821Z
URL:https://www.arabamerica.com/events/muslim-advocacy-day/
SUMMARY:Muslim Advocacy Day
DESCRIPTION:
ATTACH;FMTTYPE=image/jpeg:https://www.arabamerica.com/wp-content/uploads/2
 024/02/Screen-Shot-2024-02-22-at-3.34.56-AM.png
LOCATION:Central Presbyterian Church\, 201 Washinton St. SW.\, Atlanta\, Ge
 orgia\, United States
GEO:33.7497037;-84.38913289999999
X-APPLE-STRUCTURED-LOCATION;VALUE=URI;X-ADDRESS=201 Washinton St. SW.\, Atl
 anta\, Georgia\, United States;X-APPLE-RADIUS=100;X-TITLE=Central Presbyte
 rian Church:geo:33.7497037,-84.38913289999999
END:VEVENT
BEGIN:VTIMEZONE
TZID:America/Detroit
X-LIC-LOCATION:America/Detroit
BEGIN:STANDARD
DTSTART:20231105T010000
TZOFFSETFROM:-0400
TZOFFSETTO:-0500
TZNAME:EST
END:STANDARD
END:VTIMEZONE
END:VCALENDAR