BEGIN:VCALENDAR
VERSION:2.0
PRODID:-//wp-events-plugin.com//7.2.3.1//EN
TZID:America/Detroit
X-WR-TIMEZONE:America/Detroit
BEGIN:VEVENT
UID:35777@arabamerica.com
DTSTART:20260228T013000Z
DTEND:20260228T043000Z
DTSTAMP:20260128T013523Z
URL:https://www.arabamerica.com/events/muslim-dems-friends-iftar/
SUMMARY:Muslim Dems & Friends Iftar
DESCRIPTION:Overview\n\n\n\n\nJoin the Muslim Dems and Friends of Alameda a
 nd Santa Clara County for an Iftar at Mehran Restaurant on February 27\, 2
 026.\n\n\n\n\n\n\nJoin us for an evening of reflection\, unity\, and fello
 wship as we break bread together during the blessed month of Ramadan. This
  special event brings together elected officials and community leaders to 
 foster meaningful dialogue and strengthen our shared commitment to service
  and inclusivity.\n\n\n\n
LOCATION:Mehran Restaurant & Catering\, 5774 Mowry School Road\, Newark\, C
 A\, 94560\, United States
GEO:37.519936;-121.992232
X-APPLE-STRUCTURED-LOCATION;VALUE=URI;X-ADDRESS=5774 Mowry School Road\, Ne
 wark\, CA\, 94560\, United States;X-APPLE-RADIUS=100;X-TITLE=Mehran Restau
 rant & Catering:geo:37.519936,-121.992232
END:VEVENT
END:VCALENDAR