BEGIN:VCALENDAR
VERSION:2.0
PRODID:-//wp-events-plugin.com//7.2.3.1//EN
TZID:America/Detroit
X-WR-TIMEZONE:America/Detroit
BEGIN:VEVENT
UID:35432@arabamerica.com
DTSTART;TZID=America/Detroit:20251213T190000
DTEND;TZID=America/Detroit:20251213T210000
DTSTAMP:20251118T230850Z
URL:https://www.arabamerica.com/events/muslim-entrepreneurs-networking-nig
 ht-by-atl-muslim-market/
SUMMARY:Muslim Entrepreneurs Networking Night — by ATL Muslim Market
DESCRIPTION:\nGrow your network\, get discovered\, and list your Muslim-own
 ed business for $0. Drop-in mixer + 2 lightning talks + live concierge sig
 n-ups.\n\n\n\n\nMuslim Entrepreneurs Networking Night — by ATL Muslim Ma
 rket\n\nWhy we’re gathering\nWe’re building a stronger local Muslim ec
 onomy in ATL—together. Meet fellow founders and creatives\, learn quick\
 , practical growth tips\, and get your business listed on ATL Muslim Marke
 t (we’ll even build your listing for you on the spot). Light\, elegant r
 efreshments. Come as you are\, leave with momentum.\n\nWho should attend\n
 \n 	Muslim business owners &amp\; entrepreneurs (all industries)\n 	Creati
 ves\, service pros\, and side-hustlers ready to grow\n 	Community organize
 rs\, masjids\, and partners who support local businesses\n\nWhat you’ll 
 get\n\n 	Concierge sign-ups: Share your IG handle + 3 photos—we’ll cre
 ate your listing in 60 seconds\n 	“Founding 100” badge: Early supporte
 rs get a permanent profile badge + a guaranteed social spotlight\n 	2 ligh
 tning talks: No fluff—just tactics you can use Monday\n 	High-quality ne
 tworking: Find collaborators\, vendors\, clients\n\nregister here\n\n\n
ATTACH;FMTTYPE=image/jpeg:https://www.arabamerica.com/wp-content/uploads/2
 025/11/Screenshot-2025-11-18-at-6.07.06-PM.png
LOCATION:The Law Office of India Y. Ali\, 568 Fayetteville Road Southeast\,
  Atlanta\, GA\, 30316\, United States
GEO:33.738716;-84.311143
X-APPLE-STRUCTURED-LOCATION;VALUE=URI;X-ADDRESS=568 Fayetteville Road South
 east\, Atlanta\, GA\, 30316\, United States;X-APPLE-RADIUS=100;X-TITLE=The
  Law Office of India Y. Ali:geo:33.738716,-84.311143
END:VEVENT
BEGIN:VTIMEZONE
TZID:America/Detroit
X-LIC-LOCATION:America/Detroit
BEGIN:STANDARD
DTSTART:20251102T010000
TZOFFSETFROM:-0400
TZOFFSETTO:-0500
TZNAME:EST
END:STANDARD
END:VTIMEZONE
END:VCALENDAR