BEGIN:VCALENDAR
VERSION:2.0
PRODID:-//wp-events-plugin.com//7.2.3.1//EN
TZID:America/Detroit
X-WR-TIMEZONE:America/Detroit
BEGIN:VEVENT
UID:34247@arabamerica.com
DTSTART;TZID=America/Detroit:20250423T183000
DTEND;TZID=America/Detroit:20250423T203000
DTSTAMP:20250330T201839Z
URL:https://www.arabamerica.com/events/muslim-social-network-event-6/
SUMMARY:Muslim Social Network Event
DESCRIPTION:NEW YORK CITY\, NY\n\nCalling All Single Muslims.\n\nFancy havi
 ng loads of dates instead of endless texts? Get ready for a great night ou
 t of-Sip\, flirt and laugh your way through a singles event like no other.
 \n\nThe event is open to single Muslim\, men and women from the age of (25
 -45)\n\n&nbsp\;\n\nDuring the evening you will not only have the opportuni
 ty to meet single like minded Muslims\, you will find out more.\n\n&nbsp\;
 \n\nWhether you’re looking to make new connections\, find love for yours
 elf or your family members- come along and enjoy the relaxed Single Muslim
  Networking Event. We hope you feel the chemistry and sparks fly in our ne
 tworking event!\n\n&nbsp\;\n\n&nbsp\;\n\nMake real connections in a short 
 space of time. It’s magic!\n\nThe purpose of the evening is to:\n\n1) Me
 et the most Single Muslim Professionals in your city (we all know how hard
  that is!)\n\n2) Make deep\, meaningful connections with the right people\
 n\n3) Learn and be inspired by a fresh perspective in dating\n\n&nbsp\;\n\
 nIt's a great opportunity to meet the most Single Muslim Professionals\n\n
 But you are ready\, open and available to start a new friendship which may
  lead to a relationship.\n\nOur group is created to help single Muslims la
 dies and gents meet and make new friends which may lead to a relationship.
 \n\n&nbsp\;\n\nOur event are very popular and friendly with relaxed atmosp
 here\, sometimes that's easier the first time than one to one date\n\n&nbs
 p\;\n\nDress code: Smart-casual look.\n\nPlease look decently professional
 -though being a little stylish won't hurt.
ATTACH;FMTTYPE=image/jpeg:https://www.arabamerica.com/wp-content/uploads/2
 025/03/Screenshot-2025-03-30-at-4.24.50 PM.png
LOCATION:\, New York City\, New York\, 10016\, United States
GEO:40.74727;-73.980065
X-APPLE-STRUCTURED-LOCATION;VALUE=URI;X-ADDRESS=New York City\, New York\, 
 10016\, United States;X-APPLE-RADIUS=100;X-TITLE=:geo:40.74727,-73.980065
END:VEVENT
BEGIN:VTIMEZONE
TZID:America/Detroit
X-LIC-LOCATION:America/Detroit
BEGIN:DAYLIGHT
DTSTART:20250309T030000
TZOFFSETFROM:-0500
TZOFFSETTO:-0400
TZNAME:EDT
END:DAYLIGHT
END:VTIMEZONE
END:VCALENDAR