BEGIN:VCALENDAR
VERSION:2.0
PRODID:-//wp-events-plugin.com//7.2.3.1//EN
TZID:America/Detroit
X-WR-TIMEZONE:America/Detroit
BEGIN:VEVENT
UID:31240@arabamerica.com
DTSTART;TZID=America/Detroit:20230727T000000
DTEND;TZID=America/Detroit:20230730T000000
DTSTAMP:20230612T165059Z
URL:https://www.arabamerica.com/events/muslim-youth-leadership-program-myl
 p/
SUMMARY:MUSLIM YOUTH LEADERSHIP PROGRAM (MYLP)
DESCRIPTION:Join us Thursday\, July 27\, 2023\, to Sunday\, July 30\, 2023 
 for an intensive\, four-day retreat in Sacramento designed to introduce A
 merican Muslim high school students to the areas of media\, law\, and gove
 rnment–avenues that shape public opinion and public policy.\n\nABOUT MYL
 P:\n\nThe MYLP students will:\n\n 	Gain an in-depth understanding of Calif
 ornia’s legislative process\n 	Sharpen leadership skills\, gain valuable
  campaign and organizing tools\n 	Make new friends with other students fro
 m across California\n 	Meet elected officials and improve networking skill
 \n 	Receive hands-on training in the areas of civic engagement and media a
 dvocacy\n\nMock legislature at the State Capitol (serve as a senator for a
  day and debate important public policy issues ranging from elections\, ed
 ucation\, and public safety) MYLP relies on the support of young leaders i
 n our community to serve as advisors during the program. All advisors are 
 assigned to a group of 3 to 4 students and are responsible for creating a 
 welcoming and safe environment. Interested college students and young prof
 essionals should submit their applications by Sunday\, May 21\, 2023.\n\nA
 pply to be an advisor: https://ca.cair.com/mylp/advisor-application/ 
ATTACH;FMTTYPE=image/jpeg:https://www.arabamerica.com/wp-content/uploads/2
 023/06/MYLP.jpeg
CATEGORIES:Muslim,Muslim Identity,Muslim kids workshop,Muslim Youth
 Camp,Retreat,Sacramento,youth development
END:VEVENT
BEGIN:VTIMEZONE
TZID:America/Detroit
X-LIC-LOCATION:America/Detroit
BEGIN:DAYLIGHT
DTSTART:20230312T030000
TZOFFSETFROM:-0500
TZOFFSETTO:-0400
TZNAME:EDT
END:DAYLIGHT
END:VTIMEZONE
END:VCALENDAR