BEGIN:VCALENDAR
VERSION:2.0
PRODID:-//wp-events-plugin.com//7.2.3.1//EN
TZID:America/Detroit
X-WR-TIMEZONE:America/Detroit
BEGIN:VEVENT
UID:34553@arabamerica.com
DTSTART;TZID=America/Detroit:20250616T180000
DTEND;TZID=America/Detroit:20250616T200000
DTSTAMP:20250611T061536Z
URL:https://www.arabamerica.com/events/mystical-morocco-a-journey-through-
 time-and-culture-3/
SUMMARY:Mystical Morocco: A Journey Through Time and Culture
DESCRIPTION:We are thrilled to invite you to an exclusive event where we'll
  unveil the details of our upcoming trip to Morocco from May 13-17\, 2026.
  Join us on Monday\, June 13th at 6pm at The Agency Chic\, 2551 Rt 611\, S
 cotrun\, PA.\n\nClick here to learn more: https://gateway.gocollette.com/l
 ink/1316401\n\nEvent Highlights:\n\n 	Date &amp\; Time: Monday\, June 16th
  at 6pm (doors open 15min prior)\n 	Location: The Agency Chic\, 2551 Rt 61
 1\, Scotrun\, PA\n 	Special Treats: Indulge in delicious Moroccan delicaci
 es and immerse yourself in a new culture.\n\nWhat to Expect:\n\n 	Vibrant 
 Culture: Get to know the colorful backdrops and vibrant culture that are d
 istinctively Morocco.\n 	Historic Fes: Explore Fes\, one of the holiest ci
 ties in the world\, on a walking tour in the Medina.\n 	Sahara Adventure: 
 Make your way to your desert camp by 4x4 jeep and spend a full day explori
 ng the Sahara Desert.\n 	Scenic Routes: Travel the rugged “Road of a Tho
 usand Kasbahs” to the UNESCO World Heritage site of Kasbah Ait-Ben-Haddo
 u.\n 	Marrakech Experience: Enjoy an interactive cooking class at a women
 ’s cooperative and get a true taste of Moroccan hospitality.\n\nExperien
 ce Morocco's deep history\, unique atmosphere\, and welcoming people on an
  unforgettable journey. Don't miss this opportunity to learn more about th
 is exciting trip and how you can be a part of it.\n\nRSVP: Please let us k
 now if you can attend by 6/18. We look forward to seeing you there!\n\nCli
 ck here to learn more: https://gateway.gocollette.com/link/1316401\n\nBest
  regards\,\n\nThe Agency Chic\n\n2551 Rt 611\, Scotrun\, PA
ATTACH;FMTTYPE=image/jpeg:https://www.arabamerica.com/wp-content/uploads/2
 025/06/Screenshot-2025-06-10-at-2.10.17 PM-1.png
LOCATION:The Agency Chic\, 2551 Pennsylvania 611\, Pocono Township\, PA\, 1
 8355\, United States
GEO:41.05714;-75.316119
X-APPLE-STRUCTURED-LOCATION;VALUE=URI;X-ADDRESS=2551 Pennsylvania 611\, Poc
 ono Township\, PA\, 18355\, United States;X-APPLE-RADIUS=100;X-TITLE=The A
 gency Chic:geo:41.05714,-75.316119
END:VEVENT
BEGIN:VTIMEZONE
TZID:America/Detroit
X-LIC-LOCATION:America/Detroit
BEGIN:DAYLIGHT
DTSTART:20250309T030000
TZOFFSETFROM:-0500
TZOFFSETTO:-0400
TZNAME:EDT
END:DAYLIGHT
END:VTIMEZONE
END:VCALENDAR