BEGIN:VCALENDAR
VERSION:2.0
PRODID:-//wp-events-plugin.com//7.2.3.1//EN
TZID:America/Detroit
X-WR-TIMEZONE:America/Detroit
BEGIN:VEVENT
UID:31017@arabamerica.com
DTSTART;TZID=America/Detroit:20230524T183000
DTEND;TZID=America/Detroit:20230524T183000
DTSTAMP:20230510T181340Z
URL:https://www.arabamerica.com/events/naaba-mi-2nd-annual-khalta/
SUMMARY:NAABA-MI 2nd Annual Khalta
DESCRIPTION:\n\nDetroit\, MI\nAs many of you recall\, our first Khalta was 
 a huge success\, and we have no doubt that our second will be even better!
  Do not miss out on this great opportunity to network\, reconnect\, and so
 cialize.\n\nPlease join us on Wednesday\, May 24th at 6:30 pm at the Athen
 eum Hotel in Detroit. Hor d'oeuvres provided and a cash bar is available. 
 Semi-formal and dressy casual attire.\n\nParking is available at the parki
 ng lot directly across the street.\n\nTickets and sponsorship opportunitie
 s available for sale.\n\nSponsorships must be purchased by Sunday\, May 21
 \, 2023 and logos must be emailed to infonaabami@gmail.com for inclusion o
 n Khalta related materials.\n\nWe hope to see you there!\n\n\n\n\n\n\nHono
 red Guests:\n\n 	Mrs. Fadwa Hammoud\, Chief Deputy Attorney General\n 	Hon
 orable Adel Harb\, 3rd Circuit Court\n 	Honorable Aliyah Sabree\, 36th Dis
 trict Court\n 	Honorable Charlene Elder\, 3rd Circuit Court\n 	Honorable D
 arnella Williams-Claybourne\, 3rd Circuit Court\n 	Honorable David Turfe\,
  20th District Court\n 	Honorable Helal Farhat\, 3rd Circuit Court\n 	Hono
 rable Michael Hatty\, Chief Judge 44th Circuit and 53rd District Courts\n 
 	Honorable Millicent Sherman\, 36th District Court\n 	Honorable Sam Salame
 y\, Chief Judge 19th District Court\n 	Honorable Yvonna Abraham\, 3rd Circ
 uit Court\n 	Honorable Zeinab Baydoun\, Administrative Law Judge\n 	Magist
 rate Ali Hammoud\, 19th District Court\n 	Chief Magistrate Jeffrey Klepare
 k\, 36th District Court\n 	Magistrate Lawrence Elassal\, 19th District Cou
 rt\n 	Magistrate Mona Fadlallah\, 19th District Court\n 	Magistrate Rula A
 oun\, 20th District Court\n 	Magistrate Laura Echartea\, 36th District Cou
 rt\n 	Mr. Assad Turfe\, Wayne County Executive\n 	Mayor Bill Bazzi\, Dearb
 orn Heights\n 	Mayor Patrick Wimberly\, Inkster\n 	Saif Elsenad\, Executiv
 e Director to the Mayor of Inkster\n 	City Councilman Mo Baydoun\, Dearbor
 n Heights City Council\n 	City Councilman Hassan Ahmad\, Dearborn Heights 
 City Council\n 	Ahmad Alkaabi\, Candidate for Dearborn Heights City Counci
 l and Iraqi American Foundation President\n 	Mr. Abed Hammoud\, Former U.S
 . Assistant Prosecutor\, Co-Founder of the Arab American Political Action 
 Committee\, and Board of Trustee and Co-Founder of NAABA-MI\n 	Mrs. Zenna 
 Elhasan\, General Counsel and Board Secretary for the Kresge Foundation\n 
 	Mrs. Suzanne Sukkar\, Attorney and Chair Person for the Commission on Mid
 dle Eastern American Affairs\n\nThis list will continue to be updated as m
 ore honorable guests confirm their attendance.\n\n\n\n\n\n
ATTACH;FMTTYPE=image/jpeg:https://www.arabamerica.com/wp-content/uploads/2
 023/05/Screen-Shot-2023-05-10-at-2.09.21-PM.png
CATEGORIES:Annual Event
LOCATION:Atheneum Suite Hotel\, 1000 Brush Street\, Detroit\, MI\, 48226\, 
 United States
GEO:42.334152;-83.042847
X-APPLE-STRUCTURED-LOCATION;VALUE=URI;X-ADDRESS=1000 Brush Street\, Detroit
 \, MI\, 48226\, United States;X-APPLE-RADIUS=100;X-TITLE=Atheneum Suite Ho
 tel:geo:42.334152,-83.042847
END:VEVENT
BEGIN:VTIMEZONE
TZID:America/Detroit
X-LIC-LOCATION:America/Detroit
BEGIN:DAYLIGHT
DTSTART:20230312T030000
TZOFFSETFROM:-0500
TZOFFSETTO:-0400
TZNAME:EDT
END:DAYLIGHT
END:VTIMEZONE
END:VCALENDAR