BEGIN:VCALENDAR
VERSION:2.0
PRODID:-//wp-events-plugin.com//7.2.3.1//EN
TZID:America/Detroit
X-WR-TIMEZONE:America/Detroit
BEGIN:VEVENT
UID:30378@arabamerica.com
DTSTART;TZID=America/Detroit;VALUE=DATE:20231227
DTEND;TZID=America/Detroit;VALUE=DATE:20240104
DTSTAMP:20230203T194429Z
URL:https://www.arabamerica.com/events/naama-33rd-international-medical-co
 nvention-egypt/
SUMMARY:National Arab American Medical Association 33rd International Medic
 al Convention\, Egypt
DESCRIPTION:Cairo &amp\; Sharm El Sheikh\, Egypt\n\nEvents\, Future Events
 \, international\n\n\nNAAMA 33rd International Medical Convention\, Egyp
 t\nCome Join NAAMA members and families for another exciting and enriching
  experience.  NAAMA’s 33rd International Medical Convention will be he
 ld in Egypt this December.\n\nThe convention committee is working hard to 
 put together an amazing program for our members and their families that me
 ets your expectations.\n\nHere is a glance at the tentative program:\n\n 	
 NAAMA’s 33rd International Medical Convention\n 	December 27th\, 2023 t
 o January 3\, 2024\n 	December 27 to 30\, 2023\, enjoy three days in the C
 ity of Cairo with tours of new and non traditional monuments and social ac
 tivities to explore the wonders.\n 	December 30\, 20123 to January 3\, 202
 4\, Enjoy the sun and sands of Sharm El Sheikh while attending a state of 
 the art scientific program at a luxury resort.  Our members and guests wi
 ll relax and enjoy an all-inclusive experience in addition to celebrating 
 New Year’s Eve with friends and family.\n 	Optional cruise along the Nil
 e are offered either before or after the the official convention program.\
 n\nStay tuned for more details.\n\nWe look forward to seeing you in Egypt.
 \n\nDr Elias Tawil &amp\; Dr Mouhanad Hammami\, Convention Co-Chairs\n\n
ATTACH;FMTTYPE=image/jpeg:https://www.arabamerica.com/wp-content/uploads/2
 023/02/Screen-Shot-2023-02-03-at-2.27.34-PM.png
CATEGORIES:Medical
END:VEVENT
BEGIN:VTIMEZONE
TZID:America/Detroit
X-LIC-LOCATION:America/Detroit
BEGIN:STANDARD
DTSTART:20231105T010000
TZOFFSETFROM:-0400
TZOFFSETTO:-0500
TZNAME:EST
END:STANDARD
END:VTIMEZONE
END:VCALENDAR