BEGIN:VCALENDAR
VERSION:2.0
PRODID:-//wp-events-plugin.com//7.2.3.1//EN
TZID:America/Detroit
X-WR-TIMEZONE:America/Detroit
BEGIN:VEVENT
UID:30379@arabamerica.com
DTSTART;TZID=America/Detroit:20230901T000000
DTEND;TZID=America/Detroit:20230904T000000
DTSTAMP:20230203T230356Z
URL:https://www.arabamerica.com/events/naama-45th-national-medical-convent
 ion/
SUMMARY:NAAMA 45th National Medical Convention
DESCRIPTION:SanDiago\,CA\n\n&nbsp\;\n\nNAAMA's (National Arab American Medi
 cal Association) theme for this year is "NEW WAVE MEDICINE". The conventi
 on will take place in "The U.S Grant Hotel"\, a luxury hotel in downtown S
 an Diago\, CA. \n\nA block of rooms have been reserved for the conference
  attendees. The link for hotel room and the tickets information for the co
 nference will be available.\n\n\n\nFor questions\, please contact naama@n
 aama.com.
ATTACH;FMTTYPE=image/jpeg:https://www.arabamerica.com/wp-content/uploads/2
 023/02/naama.jpeg
CATEGORIES:Arab American,Arab American medical association,Dinner
LOCATION:U.S Grant Hotel\, 326 Broadway\, San Diago\, CA\, 92101\, United S
 tates
GEO:32.716279;-117.161355
X-APPLE-STRUCTURED-LOCATION;VALUE=URI;X-ADDRESS=326 Broadway\, San Diago\, 
 CA\, 92101\, United States;X-APPLE-RADIUS=100;X-TITLE=U.S Grant Hotel:geo:
 32.716279,-117.161355
END:VEVENT
BEGIN:VTIMEZONE
TZID:America/Detroit
X-LIC-LOCATION:America/Detroit
BEGIN:DAYLIGHT
DTSTART:20230312T030000
TZOFFSETFROM:-0500
TZOFFSETTO:-0400
TZNAME:EDT
END:DAYLIGHT
END:VTIMEZONE
END:VCALENDAR