BEGIN:VCALENDAR
VERSION:2.0
PRODID:-//wp-events-plugin.com//7.2.3.1//EN
TZID:America/Detroit
X-WR-TIMEZONE:America/Detroit
BEGIN:VEVENT
UID:33223@arabamerica.com
DTSTART;TZID=America/Detroit:20240830T190000
DTEND;TZID=America/Detroit:20240901T235000
DTSTAMP:20240717T152840Z
URL:https://www.arabamerica.com/events/naamas-46th-national-convention-med
 ical-innovation-on-the-magnificent-mile/
SUMMARY:NAAMA's 46th National Convention  Medical Innovation on the Magnifi
 cent Mile
DESCRIPTION:CHICAGO\, IL\nDon't Miss Out- Register Today!\nEarly Bird Deadl
 ine Sunday August 4th\nConvention Registration Prices Go Up 15% on Aug 5th
 \n\nCurrent Early Bird Registration Prices:\nMember Physicians (CME): $500
 \nNon-member Physicians (CME) : $650\nMidlevel Provider Scientific (NO CM
 E): $450\nSpeakers (CME): $400\nResidents/Fellows (NO CME): $300\nStudent/
 NextGen (NO CME): $275\nCompanion Member: $200\nCompanion non-Member: $250
 \n\nTake advantage of the super reduced room price of $199/night at\nChica
 go Marriott Downtown Magnificent Mile Hotel\nYou will receive a unique hot
 el booking link after completing your registration.\nRoom special price de
 adline is August 11th\nFull Price List\, Registration\, Agenda\, Auxiliary
  &amp\; NextGen Program and Sponsorship info are available at\n\n
ATTACH;FMTTYPE=image/jpeg:https://www.arabamerica.com/wp-content/uploads/2
 024/07/temp-39.jpg
LOCATION:Marriot\, 540 Michigan Ave\, Chicago\, Illinois\, 60611\, United S
 tates
GEO:41.892225;-87.624962
X-APPLE-STRUCTURED-LOCATION;VALUE=URI;X-ADDRESS=540 Michigan Ave\, Chicago\
 , Illinois\, 60611\, United States;X-APPLE-RADIUS=100;X-TITLE=Marriot:geo:
 41.892225,-87.624962
END:VEVENT
BEGIN:VTIMEZONE
TZID:America/Detroit
X-LIC-LOCATION:America/Detroit
BEGIN:DAYLIGHT
DTSTART:20240310T030000
TZOFFSETFROM:-0500
TZOFFSETTO:-0400
TZNAME:EDT
END:DAYLIGHT
END:VTIMEZONE
END:VCALENDAR