BEGIN:VCALENDAR
VERSION:2.0
PRODID:-//wp-events-plugin.com//7.2.3.1//EN
TZID:America/Detroit
X-WR-TIMEZONE:America/Detroit
BEGIN:VEVENT
UID:33421@arabamerica.com
DTSTART;TZID=America/Detroit:20240907T123000
DTEND;TZID=America/Detroit:20241214T123000
DTSTAMP:20240827T170810Z
URL:https://www.arabamerica.com/events/najam-seminary-fall-arabic-intensiv
 e-course/
SUMMARY:Najam Seminary: Fall Arabic Intensive Course
DESCRIPTION:\n\n\nLilburn\, GA\n\n&nbsp\;\nJoin us at Najam Seminary for ou
 r Fall Arabic Intensive Course in person to dive deep into the beauty of t
 he Arabic language!\n\n\n\n\n\n\n\n&#x1f4ab\;Najam Seminary: Fall Arabic I
 ntensive Course &#x1f4da\;\nWelcome to our Fall Arabic Intensive Course at
  Najam Seminary! Join us for an immersive learning experience that will de
 epen your understanding of the Arabic language. Whether you're a beginner 
 or looking to enhance your skills\, this course is designed to cater to al
 l levels.\n\nCourse Description\n\nThe "Arabic Intensive Course" is an imm
 ersive learning experience designed to equip you with the essential skills
  and deep understanding needed to master the Arabic language. This course 
 seamlessly blends linguistic principles\, cultural insights\, and practica
 l application\, guiding you towards fluency and confidence in both written
  and spoken Arabic.\n\nThe course begins by laying a strong foundation in 
 the fundamentals of Arabic\, including grammar\, syntax\, and vocabulary. 
 You will explore the structure of the language\, learning how to read and 
 write effectively while gaining the ability to engage with classical texts
  and contemporary materials.\n\nA major highlight of the course is its hol
 istic approach to language mastery\, structured around comprehensive lesso
 ns that cater to different aspects of learning Arabic. These include devel
 oping conversational skills\, improving reading comprehension\, and enhanc
 ing writing abilities. You will also delve into the rich cultural and hist
 orical context of the Arabic language\, which is integral to fully appreci
 ating its nuances. Additionally\, the course will introduce you to key str
 ategies for memorizing vocabulary\, understanding complex grammatical rule
 s\, and applying these in real-life situations.\n\nThe "Arabic Intensive C
 ourse" is ideal for beginners eager to learn the language or for those wit
 h some background in Arabic who wish to deepen their proficiency. It is al
 so an excellent resource for professionals\, students\, or anyone looking 
 to enrich their linguistic capabilities. By the end of this course\, you w
 ill be equipped with the tools\, knowledge\, and confidence to communicate
  effectively in Arabic\, ensuring you walk away with a solid command of th
 e language and a deeper connection to the Arabic-speaking world.\n\nCourse
  Details\n\n 	Dates: Saturdays starting September 7th\, 2024 to December 1
 4th\, 2024\n 	Sesssions: Choose your own session\, based on your schedule!
  In person\, on site at Darul Arqam Institute.\n 	Session 1: 8AM to 10AM\n
  	Session 2: 10:30AM to 12:30PM\n\n\n 	Location In Person - Darul Arqam In
 stitute - 5365 Five Forks Trickum Rd SW\, Lilbrun\, GA 30047\n 	Fees: $150
  for the semester\, in person classes\n\nMeet your Instructor\nMolana Ahme
 d Abdul Ghani\nMolana Ahmed Abdul Ghani's passion for Semitic languages an
 d diligent expertise is reflected in his extensive knowledge of 15 languag
 es\, including the core of Arabic\, which forms the cornerstone of his lin
 guistic pursuits. With a Master's degree from the University of Chicago in
  Middle Eastern Studies\, he dives deep into the intricacies of pre-Islami
 c civilization\, enriching his teachings with the nuanced perspectives of 
 history\, literature\, and culture. His dedication to language pedagogy is
  evident in his holistic approach that intertwines language learning with 
 cultural appreciation\, aiming to ignite a similar passion in his students
 .\n\nCurrently\, Molana Ahmed is in the process of crafting an Arabic text
 book tailored to his students' journey of mastering the language. By drawi
 ng from a wealth of sources like the Qur'an\, hadith\, and pre-Islamic poe
 try\, he seeks to construct an educational narrative as immersive and enli
 ghtening as his own. His methodology echoes the famed Wheelock’s Latin a
 pproach\, designed to foster a gratifying sense of progress and achievemen
 t. Students not only learn the semantics and syntax of Arabic but also dev
 elop a connection with the language's rich heritage through its classical 
 texts.\n\nOur experienced instructors will guide you through various aspec
 ts of Arabic\, including grammar\, vocabulary\, and conversational skills.
  Don't miss this opportunity to expand your linguistic horizons and connec
 t with fellow language enthusiasts!\n\nRegister Now!\n\nSpaces are limited
 \, we are ONLY accepting 25 students for this course so be sure to reserve
  your spot soon. Please note this course is open to males and females.\n\n
 We look forward to seeing you at Najam Seminary for an enriching Arabic le
 arning experience!\n\n\n\n\n\n\n\n\n\n\n\n\n\n
ATTACH;FMTTYPE=image/jpeg:https://www.arabamerica.com/wp-content/uploads/2
 024/08/Screenshot-2024-08-27-at-10.03.14 AM.png
CATEGORIES:#arabic
LOCATION:DARUL ARQAM INSTITUTE\, 5365 Five Forks Trickum Road Southwest \, 
 Lilburn\, United States
GEO:33.842801;-84.12995
X-APPLE-STRUCTURED-LOCATION;VALUE=URI;X-ADDRESS=5365 Five Forks Trickum Roa
 d Southwest \, Lilburn\, United States;X-APPLE-RADIUS=100;X-TITLE=DARUL AR
 QAM INSTITUTE:geo:33.842801,-84.12995
END:VEVENT
BEGIN:VTIMEZONE
TZID:America/Detroit
X-LIC-LOCATION:America/Detroit
BEGIN:DAYLIGHT
DTSTART:20240310T030000
TZOFFSETFROM:-0500
TZOFFSETTO:-0400
TZNAME:EDT
END:DAYLIGHT
BEGIN:STANDARD
DTSTART:20241103T010000
TZOFFSETFROM:-0400
TZOFFSETTO:-0500
TZNAME:EST
END:STANDARD
END:VTIMEZONE
END:VCALENDAR