BEGIN:VCALENDAR
VERSION:2.0
PRODID:-//wp-events-plugin.com//7.2.3.1//EN
TZID:America/Detroit
X-WR-TIMEZONE:America/Detroit
BEGIN:VEVENT
UID:34393@arabamerica.com
DTSTART;TZID=America/Detroit:20250517T140000
DTEND;TZID=America/Detroit:20250517T160000
DTSTAMP:20250506T175008Z
URL:https://www.arabamerica.com/events/nakba-remembrance-day/
SUMMARY:Nakba Remembrance Day
DESCRIPTION:AKRON\, OH\n\nNakba Rememberance Day\, observed annually on May
  15th\, commemmorates the Nakba ("catastrophe" in Arabic)\, marking the be
 ginnning of the mass displacement of Palestinians from their land. In 1948
 \, Palestinians experienced the forced displacement of over 750\,000 peopl
 e and the massacre of numerous Palestinian villages. This marked the begin
 ning of a history of persecution\, occupation\, and displacement for the P
 alestinian people.\n\nThis day serves as a poignant reminder of the ongoin
 g Palestinian struggle for justice and liberation. So join us for a day of
  reflection\, remembrance\, education\, and art as we honor the Palestinia
 n struggle for liberation and reclaim our narrative.\n\nThis in-person eve
 nt will feature guest speaker and author Rose Esber\, Nakba survivor testi
 monies\, music and poetry\, and more! Let's come together to commemorate t
 his important day and honor the ongoing sacrifices of the Palestinian peop
 le .
ATTACH;FMTTYPE=image/jpeg:https://www.arabamerica.com/wp-content/uploads/2
 025/05/Screenshot-2025-05-06-at-1.46.58 PM.png
LOCATION:Akron-Summit County Public Library\, 60 S High St\, Akron\, OH\, 4
 4326\, United States
GEO:41.08284;-81.51682
X-APPLE-STRUCTURED-LOCATION;VALUE=URI;X-ADDRESS=60 S High St\, Akron\, OH\,
  44326\, United States;X-APPLE-RADIUS=100;X-TITLE=Akron-Summit County Publ
 ic Library:geo:41.08284,-81.51682
END:VEVENT
BEGIN:VTIMEZONE
TZID:America/Detroit
X-LIC-LOCATION:America/Detroit
BEGIN:DAYLIGHT
DTSTART:20250309T030000
TZOFFSETFROM:-0500
TZOFFSETTO:-0400
TZNAME:EDT
END:DAYLIGHT
END:VTIMEZONE
END:VCALENDAR