BEGIN:VCALENDAR
VERSION:2.0
PRODID:-//wp-events-plugin.com//7.2.3.1//EN
TZID:America/Detroit
X-WR-TIMEZONE:America/Detroit
BEGIN:VEVENT
UID:35299@arabamerica.com
DTSTART;TZID=America/New_York:20251108T170000
DTEND;TZID=America/New_York:20251108T200000
DTSTAMP:20251022T010457Z
URL:https://www.arabamerica.com/events/nannas-sudanese-cuisine-cultural-an
 d-story-telling-night/
SUMMARY:Nanna's Sudanese Cuisine Cultural and Story Telling Night
DESCRIPTION:ATLANTA\, GA\n\nExperience the Heart of Sudan Through Food\, Fa
 shion\, and Storytelling\nJoin us for an unforgettable evening celebrating
  Sudanese culture\, resilience\, and community. Hosted by Ikhlas Mohammed 
 and inspired by her mother\, Magboula Yousif—affectionately known as Nan
 na—this event brings together traditional cuisine\, personal storytellin
 g\, and immersive cultural experiences.\n\n&#x1f554\; Date &amp\; Time: 
 Saturday\, November 8 · 5–8 PM (Doors open at 4:45 PM)\n&#x1f4cd\; Loc
 ation: Chow A La Carte / Uptown Test Kitchen\, 2440 Piedmont Rd NE\, Atla
 nta\, GA 30344\n&#x1f39f\;&#xfe0f\; Tickets: $65 General Admission (incl
 udes dinner\, dessert\, coffee/tea\, henna\, photo booth\, and take-home g
 ifts)\n\nHighlights Include:\n\n 	A heartfelt introduction to Nanna’s st
 ory and the legacy behind Nanna’s Sudanese Cuisine\n 	Interactive storyt
 elling and cultural exchange over traditional Sudanese snacks\n 	A full Su
 danese dinner featuring rich flavors\, sweet dessert\, and traditional cof
 fee or tea\n 	Henna art by local artists\n 	Sudanese fashion try-ons with 
 the elegant Toob and Jalabiya dresses\n 	A photo booth to capture your
  experience in traditional attire\n 	Take-home recipe cards\, spice sample
 s\, and small gifts to continue your cultural journey\n 	Enjoy Sudanese Mu
 sic while enjoying all this good stuff.\n
ATTACH;FMTTYPE=image/jpeg:https://www.arabamerica.com/wp-content/uploads/2
 025/10/Screen-Shot-2025-10-21-at-9.03.40-PM.png
LOCATION:Chow A La Carte / Uptown Test Kitchen\, 2440 Piedmont Road\, North
 east Atlanta \, Georgia \, 30344\, United States
GEO:33.821958;-84.367718
X-APPLE-STRUCTURED-LOCATION;VALUE=URI;X-ADDRESS=2440 Piedmont Road\, Northe
 ast Atlanta \, Georgia \, 30344\, United States;X-APPLE-RADIUS=100;X-TITLE
 =Chow A La Carte / Uptown Test Kitchen:geo:33.821958,-84.367718
END:VEVENT
BEGIN:VTIMEZONE
TZID:America/New_York
X-LIC-LOCATION:America/New_York
BEGIN:STANDARD
DTSTART:20251102T010000
TZOFFSETFROM:-0400
TZOFFSETTO:-0500
TZNAME:EST
END:STANDARD
END:VTIMEZONE
END:VCALENDAR