BEGIN:VCALENDAR
VERSION:2.0
PRODID:-//wp-events-plugin.com//7.2.3.1//EN
TZID:America/Detroit
X-WR-TIMEZONE:America/Detroit
BEGIN:VEVENT
UID:31609@arabamerica.com
DTSTART;TZID=America/Detroit:20231014T190000
DTEND;TZID=America/Detroit:20231014T220000
DTSTAMP:20230822T023157Z
URL:https://www.arabamerica.com/events/nassif-zeytoun-rhode-island-usa-tou
 r-2023-3/
SUMMARY:Nassif Zeytoun - Rhode Island USA Tour 2023
DESCRIPTION:\n\n\n\n\nUSA Tour 2023\n\nNassif Zeytoun Live Concert in Rhode
  Island USA\n\nDate : October 14\, 2023\n\nBally's Twin River Casino\n\n\n
 \n\n\n\n\n
ATTACH;FMTTYPE=image/jpeg:https://www.arabamerica.com/wp-content/uploads/2
 023/08/https___cdn.evbuc_.com_images_550746909_1131074513203_1_original-1-
 1.jpeg
CATEGORIES:Arabic,arabic music,concert
LOCATION:Bally's Twin River Lincoln\, 100 Twin River Road\, Lincoln\, RI\, 
 02865\, United States
GEO:41.888884;-71.449861
X-APPLE-STRUCTURED-LOCATION;VALUE=URI;X-ADDRESS=100 Twin River Road\, Linco
 ln\, RI\, 02865\, United States;X-APPLE-RADIUS=100;X-TITLE=Bally's Twin Ri
 ver Lincoln:geo:41.888884,-71.449861
END:VEVENT
BEGIN:VTIMEZONE
TZID:America/Detroit
X-LIC-LOCATION:America/Detroit
BEGIN:DAYLIGHT
DTSTART:20230312T030000
TZOFFSETFROM:-0500
TZOFFSETTO:-0400
TZNAME:EDT
END:DAYLIGHT
END:VTIMEZONE
END:VCALENDAR