BEGIN:VCALENDAR
VERSION:2.0
PRODID:-//wp-events-plugin.com//7.2.3.1//EN
TZID:America/Detroit
X-WR-TIMEZONE:America/Detroit
BEGIN:VEVENT
UID:35862@arabamerica.com
DTSTART;TZID=America/New_York:20260416T173000
DTEND;TZID=America/New_York:20260416T220000
DTSTAMP:20260216T010234Z
URL:https://www.arabamerica.com/events/national-arab-american-heritage-mon
 th-2026-signature-celebration/
SUMMARY:National Arab American Heritage Month 2026 Signature Celebration
DESCRIPTION:\nMany Voices\, One Community\n\n\n\n\n\nJoin us as we commemor
 ate National Arab American Heritage Month (NAAHM) 2026. This is the 9th an
 nual event since the inception of NAAHM in 2017. The 2026 theme\, “Many
  Voices\, One Community\,” reflects the breadth of Arab American identi
 ties while affirming the shared values that unite the community.\n\nEach y
 ear\, we honor the invaluable contributions of Arab Americans and commemor
 ate National Arab American Heritage Month with community leaders\, cultura
 l performances\, and authentic Arab cuisine.\n\nThis year\, we will featur
 e "The Golden Era of Arab Music: An Evening of Timeless Arab Classics\," w
 hich invites guests on a refined journey through the luminous sounds of th
 e Arab World from the 1950s through the 1970s. Two of America's leading Ar
 ab vocalists\, Usama Baalbaki and Nibal Malshi\, will perform at this cu
 rated 45-minute tribute honoring the legendary artistry of Abdel Halim Ha
 fez\, Warda\, Mohammed Abdel Wahab\, Fairuz\, and Wadih El Safi—voices
  that shaped a cultural renaissance and defined a generation. Through belo
 ved melodies and orchestral elegance\, the program evokes romance\, nostal
 gia\, and shared heritage.\n\nAdditionally\, a Comedian and Folkloric Dabk
 e Troupe will be announced soon.\n\nAs Arab Americans face exclusion from 
 diverse initiatives and discriminatory discourse\, it is more important th
 an ever to affirm our identity\, celebrate our contributions\, and counter
  dehumanizing narratives.\n\nThis event is a crucial opportunity to promot
 e inclusion\, challenge misconceptions\, and amplify Arab American voices.
 \n\nAbout National Arab American Heritage Month\n\nThroughout April\, the 
 Arab America Foundation celebrates National Arab American Heritage Month (
 NAAHM)\, recognizing the achievements\, culture\, and contributions of Ara
 b Americans. Across the U.S.\, schools\, governments\, and organizations i
 ssue proclamations and host events honoring Arab heritage.\n\nIn 2017\, Ar
 ab America launched a national movement to unify recognition of NAAHM. Sin
 ce then\, state and local governments\, corporations\, and institutions ha
 ve expanded their participation\, with 250+ volunteers across 26 states or
 ganizing proclamations and events nationwide.\n\n--Doors open at 5:30 pm\,
  dinner is served 6:00-7:15 pm\, Program 7:30 pm\n\n--Notable guests\, cul
 tural presentations\, and authentic Arab cuisine.\n\n--Dress for the event
  is Black Tie Optional/Formal\n\n--This event is a fundraiser for the Arab
  America Foundation\n\n\n\nCLICK HERE for Tickets
ATTACH;FMTTYPE=image/jpeg:https://www.arabamerica.com/wp-content/uploads/2
 026/02/2026-Logo-NAAHM.png
CATEGORIES:#arabic_singer_eyad_tanous,Activism,Arab,Arab Ameircan
 Event,Arab America,Arab America Foundation,Arab American Association,Arab
 American Heritage Month,Arab Art,Arab Artists,Arab Band and Singer,Arab
 Culture Night,Arab Games,Arab Heritage,Arab Identity,Arab Music,Arab
 Singer,Arab-American,Arabic,Arabic Culture,Arabic Dance,Arabic
 Event,arabic music,Celebration
LOCATION:Belle Haven Country Club\, 6023 Fort Hunt Rd\, Alexandria\, VA 223
 07\, Alexandria\, 22307\, United States
GEO:38.78663;-77.057886
X-APPLE-STRUCTURED-LOCATION;VALUE=URI;X-ADDRESS=6023 Fort Hunt Rd\, Alexand
 ria\, VA 22307\, Alexandria\, 22307\, United States;X-APPLE-RADIUS=100;X-T
 ITLE=Belle Haven Country Club:geo:38.78663,-77.057886
END:VEVENT
BEGIN:VTIMEZONE
TZID:America/New_York
X-LIC-LOCATION:America/New_York
BEGIN:DAYLIGHT
DTSTART:20260308T030000
TZOFFSETFROM:-0500
TZOFFSETTO:-0400
TZNAME:EDT
END:DAYLIGHT
END:VTIMEZONE
END:VCALENDAR