BEGIN:VCALENDAR
VERSION:2.0
PRODID:-//wp-events-plugin.com//7.2.3.1//EN
TZID:America/Detroit
X-WR-TIMEZONE:America/Detroit
BEGIN:VEVENT
UID:33173@arabamerica.com
DTSTART;TZID=America/Detroit:20240724T110000
DTEND;TZID=America/Detroit:20240725T110000
DTSTAMP:20240710T134832Z
URL:https://www.arabamerica.com/events/national-mobilization-all-out-to-th
 e-capitol-arrest-netanyahu/
SUMMARY:NATIONAL MOBILIZATION- ALL OUT TO THE CAPITOL ARREST NETANYAHU
DESCRIPTION:Surround The Capitol! July 24th 11AM\n\n&nbsp\;\n\nBE THERE!!
ATTACH;FMTTYPE=image/jpeg:https://www.arabamerica.com/wp-content/uploads/2
 024/07/IMG_0799.jpeg
LOCATION:US Capitol Hill\, 100 East Capitol St\, Washington\, DC\, 20036\, 
 United States
GEO:38.889812;-77.00592849999998
X-APPLE-STRUCTURED-LOCATION;VALUE=URI;X-ADDRESS=100 East Capitol St\, Washi
 ngton\, DC\, 20036\, United States;X-APPLE-RADIUS=100;X-TITLE=US Capitol H
 ill:geo:38.889812,-77.00592849999998
END:VEVENT
BEGIN:VTIMEZONE
TZID:America/Detroit
X-LIC-LOCATION:America/Detroit
BEGIN:DAYLIGHT
DTSTART:20240310T030000
TZOFFSETFROM:-0500
TZOFFSETTO:-0400
TZNAME:EDT
END:DAYLIGHT
END:VTIMEZONE
END:VCALENDAR