BEGIN:VCALENDAR
VERSION:2.0
PRODID:-//wp-events-plugin.com//7.2.3.1//EN
TZID:America/Detroit
X-WR-TIMEZONE:America/Detroit
BEGIN:VEVENT
UID:35064@arabamerica.com
DTSTART;TZID=America/Detroit:20251005T173000
DTEND;TZID=America/Detroit:20251005T200000
DTSTAMP:20250902T223002Z
URL:https://www.arabamerica.com/events/ndpacs-candidates-night-2025/
SUMMARY:NDPAC’S CANDIDATES’ NIGHT 2025
DESCRIPTION:Dear Friends\,\n\nNew Dominion PAC is excited to invite you to 
 our annual Candidates’ Night on Sunday\, October 5\, 2025\, at the Marri
 ott Fairview in Falls Church\, VA. \n\nThis special evening will bring tog
 ether community members and elected leaders for an inspiring dinner and co
 nversation about the issues that matter most to us.\n\n Date: Sunday\, Oct
 ober 5\, 2025\n\n Time: 5:30 PM – 8:00 PM\n\n Location: Marriott Fairvie
 w\, 3111 Fairview Park Drive\, Falls Church\, VA\n\n Get your tickets by c
 licking the link below:\n\nhttps://ndpac.kindful.com/e/2025-candidates-nig
 ht\n\n Student Tickets: Discounted student tickets are available with a va
 lid Student ID presented at the venue.\n\nWe look forward to seeing you th
 ere for an evening of connection\, engagement\, and shaping our future tog
 ether!\n\nWarm regards\,\n\nMaher J. Massis\n\nNDPAC President
ATTACH;FMTTYPE=image/jpeg:https://www.arabamerica.com/wp-content/uploads/2
 025/09/Screenshot-2025-09-02-at-6.26.50-PM.png
END:VEVENT
BEGIN:VTIMEZONE
TZID:America/Detroit
X-LIC-LOCATION:America/Detroit
BEGIN:DAYLIGHT
DTSTART:20250309T030000
TZOFFSETFROM:-0500
TZOFFSETTO:-0400
TZNAME:EDT
END:DAYLIGHT
END:VTIMEZONE
END:VCALENDAR