BEGIN:VCALENDAR
VERSION:2.0
PRODID:-//wp-events-plugin.com//7.2.3.1//EN
TZID:America/Detroit
X-WR-TIMEZONE:America/Detroit
BEGIN:VEVENT
UID:31599@arabamerica.com
DTSTART;TZID=America/Detroit:20230902T140000
DTEND;TZID=America/Detroit:20230902T170000
DTSTAMP:20230821T232233Z
URL:https://www.arabamerica.com/events/networking-social-arab-socials/
SUMMARY:Networking Social (Arab Socials)
DESCRIPTION:Learn about the Palestinian American Medical Association and ne
 twork with healthcare professionals. FOOD INCLUDED IN TICKET\n\n\n\n
ATTACH;FMTTYPE=image/jpeg:https://www.arabamerica.com/wp-content/uploads/2
 023/08/Screen-Shot-2023-08-21-at-7.18.59-PM.png
CATEGORIES:Arab healthcare workers,Health/Medical,Networkings
LOCATION:Zooba\,  100 Kenmare Street\, New York\,  NY\, 10012\, United Stat
 es
GEO:40.721174;-73.997225
X-APPLE-STRUCTURED-LOCATION;VALUE=URI;X-ADDRESS= 100 Kenmare Street\, New Y
 ork\,  NY\, 10012\, United States;X-APPLE-RADIUS=100;X-TITLE=Zooba:geo:40.
 721174,-73.997225
END:VEVENT
BEGIN:VTIMEZONE
TZID:America/Detroit
X-LIC-LOCATION:America/Detroit
BEGIN:DAYLIGHT
DTSTART:20230312T030000
TZOFFSETFROM:-0500
TZOFFSETTO:-0400
TZNAME:EDT
END:DAYLIGHT
END:VTIMEZONE
END:VCALENDAR