BEGIN:VCALENDAR
VERSION:2.0
PRODID:-//wp-events-plugin.com//7.2.3.1//EN
TZID:America/Detroit
X-WR-TIMEZONE:America/Detroit
BEGIN:VEVENT
UID:32392@arabamerica.com
DTSTART;TZID=America/Detroit:20240318T183000
DTEND;TZID=America/Detroit:20240318T203000
DTSTAMP:20240305T022449Z
URL:https://www.arabamerica.com/events/new-muslim-iftar/
SUMMARY:New Muslim Iftar
DESCRIPTION:&nbsp\;\n\n[caption id="attachment_245824" align="alignnone" wi
 dth="300"] wasat's promotional image[/caption]\n\nSEATTLE\, WASHINGTON\n\n
 Join us as we break our fast together with newer and older members of our 
 community.
ATTACH;FMTTYPE=image/jpeg:https://www.arabamerica.com/wp-content/uploads/2
 024/03/wasat-promotional-image-.png
END:VEVENT
BEGIN:VTIMEZONE
TZID:America/Detroit
X-LIC-LOCATION:America/Detroit
BEGIN:DAYLIGHT
DTSTART:20240310T030000
TZOFFSETFROM:-0500
TZOFFSETTO:-0400
TZNAME:EDT
END:DAYLIGHT
END:VTIMEZONE
END:VCALENDAR