BEGIN:VCALENDAR
VERSION:2.0
PRODID:-//wp-events-plugin.com//7.2.3.1//EN
TZID:America/Detroit
X-WR-TIMEZONE:America/Detroit
BEGIN:VEVENT
UID:35583@arabamerica.com
DTSTART;TZID=America/Detroit:20251231T180000
DTEND;TZID=America/Detroit:20251231T180000
DTSTAMP:20251216T192322Z
URL:https://www.arabamerica.com/events/new-years-eve-lebanese-feast-at-per
 ihelion-brewery/
SUMMARY:New Year's Eve Lebanese Feast at Perihelion Brewery
DESCRIPTION:SEATTLE\, WA\n\n\n\nJoin us this New Year’s for a five course
  Lebanese feast with included drink pairings\, accompanied by renowned cel
 list Gretchen Yanover.\n\n\n\n\nJoin us this New Year's Eve to enjoy a mea
 l alongside friends and neighbors in the Lebanese Mezze style. Your ticket
  will include 5 courses of Lebanese dishes accompanied by complimentary dr
 ink pairings.\n\nThere are Alcoholic and Non-Alcoholic options as well as 
 your choice of meat or vegetarian courses.\n\nThe meal will begin with a h
 ouse cocktail paired with traditionally mezze appetizer spread of house ma
 de bread\, dips and pickles.\n\nNext we have a vegetable course of fatuous
 \, stuffed grape leaves and peppers. This course is paired with a flight o
 f our house saisons or house lemonades.\n\nFor the main event\, you will e
 njoy two fabulous main dishes. First Kibbi both a lamb and a vegetarian st
 yle along with Roasted Leg of Lamb or Slow Roasted Cauliflower with nuts a
 nd dried fruit for the Vegetarian Option. To mark the occasion we are brea
 king out Mangum bottles from the Perihelion cellar. Travel back in time as
  you take brews from over the years. To wrap it all up\, you can look forw
 ard to a traditional course of fresh fruit followed by a special light and
  refreshing dessert.\n\nBring the kids - under 5 no charge 5-12 year old $
 50\n\nRenowned local cellist Gretchen Yanover will be providing entertainm
 ent for the evening. Her warm and unmatched artistry will provide the perf
 ect accompaniment for this Lebanese feast.\n\nTicket holders should arrive
  at 6:00pm with the first course being served at 6:15pm. Please let us kno
 w if you would like to be sat with another group when purchasing your tick
 ets and your drink (non-alcoholic or alcoholic) and meal preferences (meat
  or vegetarian). Happy Holidays and thank you for thinking of us for your 
 New Year's celebrations!\n\nMORE INFORMATION: https://perihelionbeer.squar
 e.site\n\n\n
ATTACH;FMTTYPE=image/jpeg:https://www.arabamerica.com/wp-content/uploads/2
 025/12/https-cdn.evbuc_.com-images-1172867576-2155468746443-1-original.202
 51212-213825.jpeg
LOCATION:Perihelion Brewery\, 2800 16th Avenue South\, Seattle\, WA\, 98144
 \, United States
GEO:47.578458;-122.311802
X-APPLE-STRUCTURED-LOCATION;VALUE=URI;X-ADDRESS=2800 16th Avenue South\, Se
 attle\, WA\, 98144\, United States;X-APPLE-RADIUS=100;X-TITLE=Perihelion B
 rewery:geo:47.578458,-122.311802
END:VEVENT
BEGIN:VTIMEZONE
TZID:America/Detroit
X-LIC-LOCATION:America/Detroit
BEGIN:STANDARD
DTSTART:20251102T010000
TZOFFSETFROM:-0400
TZOFFSETTO:-0500
TZNAME:EST
END:STANDARD
END:VTIMEZONE
END:VCALENDAR