BEGIN:VCALENDAR
VERSION:2.0
PRODID:-//wp-events-plugin.com//7.2.3.1//EN
TZID:America/Detroit
X-WR-TIMEZONE:America/Detroit
BEGIN:VEVENT
UID:33876@arabamerica.com
DTSTART;TZID=America/Detroit:20241231T200000
DTEND;TZID=America/Detroit:20250101T030000
DTSTAMP:20241224T021440Z
URL:https://www.arabamerica.com/events/new-years-eve-party-salem-omran-raa
 fat-boushra/
SUMMARY:NEW YEARS EVE PARTY | SALEM OMRAN & RAAFAT BOUSHRA
DESCRIPTION:BUENA PARK\, CA\n\n\nLet's ring the New Year together. Celebrat
 e with our Superstars\, Dj music\, belly dancing\, and party favors. All t
 ickets include dinner\n\n\n\n\n\n\n\n\n\n\n\n\n\n\n\n\n
ATTACH;FMTTYPE=image/jpeg:https://www.arabamerica.com/wp-content/uploads/2
 024/12/https___cdn.evbuc_.com_images_896745343_299178195542_1_original.jpe
 g
LOCATION:Golden Rose Restaurant & Lounge\, 7115 Beach Boulevard \, Buena Pa
 rk\, CA\, 90620\, United States
GEO:33.857419;-117.998689
X-APPLE-STRUCTURED-LOCATION;VALUE=URI;X-ADDRESS=7115 Beach Boulevard \, Bue
 na Park\, CA\, 90620\, United States;X-APPLE-RADIUS=100;X-TITLE=Golden Ros
 e Restaurant & Lounge:geo:33.857419,-117.998689
END:VEVENT
BEGIN:VTIMEZONE
TZID:America/Detroit
X-LIC-LOCATION:America/Detroit
BEGIN:STANDARD
DTSTART:20241103T010000
TZOFFSETFROM:-0400
TZOFFSETTO:-0500
TZNAME:EST
END:STANDARD
END:VTIMEZONE
END:VCALENDAR