BEGIN:VCALENDAR
VERSION:2.0
PRODID:-//wp-events-plugin.com//7.2.3.1//EN
TZID:America/Detroit
X-WR-TIMEZONE:America/Detroit
BEGIN:VEVENT
UID:34319@arabamerica.com
DTSTART;TZID=America/Detroit:20250503T150000
DTEND;TZID=America/Detroit:20250503T190000
DTSTAMP:20250423T183159Z
URL:https://www.arabamerica.com/events/new-york-muslim-womens-wellness-sym
 posium/
SUMMARY:New York Muslim Women's Wellness Symposium
DESCRIPTION:WILLISTON PARK\, NEW YORK\n\nWelcome to the New York Muslim Wom
 en's Wellness Symposium! Join us for a day of empowerment\, education\, an
 d community at The Crystal Room in Williston Park\, NY. Connect with fello
 w Muslim women as we explore topics related to mental health\, self-care a
 nd holistic wellness. Our lineup of speakers and workshops will inspire an
 d rejuvenate you.\n\nThe event will feature:\n\n&#x1f31f\; Specialty-craft
  Bazar/Marketplace\n\n&#x1f31f\; Raffles &amp\; Giveaways\n\n&#x1f31f\; Ex
 pert-led Workshops\n\n&#x1f31f\; Art Exhibit &amp\; Silent Auction\n\n&#x1
 f31f\; Dinner Included\n\n&#x1f31f\; Self-Care Goodie Bags\n\n&#x1f31f\; D
 esserts &amp\; Yemeni Coffee\n\n&#x1f31f\; Spacious Childcare Room\n\n&#x1
 f31f\; Youth Cricut Craft Workshop\n\n&#x1f31f\; Special Guest Speakers\n\
 n&#x1f31f\; Free Parking\n\n&amp\; much more!\n\nDon't miss this opportuni
 ty to prioritize your well-being in a night of collective sisterhood. We c
 an't wait to see you there! 100% of ticket sales benefit We Belong Here NY
 's vital efforts for a safer\, more just New York. Registered 501(c)(3) Ta
 x ID: 93-2380076\n\nGet your ticket! NYMWWS.eventbrite.com
ATTACH;FMTTYPE=image/jpeg:https://www.arabamerica.com/wp-content/uploads/2
 025/04/Screenshot-2025-04-23-at-2.40.35 PM.png
LOCATION:730 willis ave\, 730 Willis Ave\, Williston Park\, New York\, 1159
 6\, United States
GEO:40.765144;-73.646697
X-APPLE-STRUCTURED-LOCATION;VALUE=URI;X-ADDRESS=730 Willis Ave\, Williston 
 Park\, New York\, 11596\, United States;X-APPLE-RADIUS=100;X-TITLE=730 wil
 lis ave:geo:40.765144,-73.646697
END:VEVENT
BEGIN:VTIMEZONE
TZID:America/Detroit
X-LIC-LOCATION:America/Detroit
BEGIN:DAYLIGHT
DTSTART:20250309T030000
TZOFFSETFROM:-0500
TZOFFSETTO:-0400
TZNAME:EDT
END:DAYLIGHT
END:VTIMEZONE
END:VCALENDAR