BEGIN:VCALENDAR
VERSION:2.0
PRODID:-//wp-events-plugin.com//7.2.3.1//EN
TZID:America/Detroit
X-WR-TIMEZONE:America/Detroit
BEGIN:VEVENT
UID:30943@arabamerica.com
DTSTART;TZID=America/Detroit:20230428T140000
DTEND;TZID=America/Detroit:20230428T160000
DTSTAMP:20230425T152422Z
URL:https://www.arabamerica.com/events/new-york-state-assemblyman-nader-sa
 yegh-presents-arab-american-heritage-month-celebration/
SUMMARY:New York State Assemblyman Nader Sayegh Presents Arab American Heri
 tage  Month Celebration
DESCRIPTION:YONKERS\, NY\nJoin us as we recognize the innumerable contribut
 ions made by Arab Americans in our community on the occasion of Assemblyma
 n Sayegh's Resolution commemorating Arab\nAmerican Heritage Month in the S
 tate of New York\n
ATTACH;FMTTYPE=image/jpeg:https://www.arabamerica.com/wp-content/uploads/2
 023/04/unnamed-2-1.jpg
CATEGORIES:Advocacy,Community,culture
LOCATION:Suite 406B 35 East Crassy Sprain Road\, Suite 406B 35 East Crassy 
 Sprain Road \, Yonkers\, NY\, 10710\, United States
GEO:40.970825;-73.860908
X-APPLE-STRUCTURED-LOCATION;VALUE=URI;X-ADDRESS=Suite 406B 35 East Crassy S
 prain Road \, Yonkers\, NY\, 10710\, United States;X-APPLE-RADIUS=100;X-TI
 TLE=Suite 406B 35 East Crassy Sprain Road:geo:40.970825,-73.860908
END:VEVENT
BEGIN:VTIMEZONE
TZID:America/Detroit
X-LIC-LOCATION:America/Detroit
BEGIN:DAYLIGHT
DTSTART:20230312T030000
TZOFFSETFROM:-0500
TZOFFSETTO:-0400
TZNAME:EDT
END:DAYLIGHT
END:VTIMEZONE
END:VCALENDAR