BEGIN:VCALENDAR
VERSION:2.0
PRODID:-//wp-events-plugin.com//7.2.3.1//EN
TZID:America/Detroit
X-WR-TIMEZONE:America/Detroit
BEGIN:VEVENT
UID:34895@arabamerica.com
DTSTART;TZID=America/Detroit:20250806T180000
DTEND;TZID=America/Detroit:20250806T200000
DTSTAMP:20250804T195937Z
URL:https://www.arabamerica.com/events/newark-arts-nico-beirut-unmute-by-l
 amia-labban/
SUMMARY:Newark Arts @ Nico: Beirut... Unmute by Lamia Labban
DESCRIPTION:NEWARK\, NJ\n\nWelcome to Newark Arts @ Nico: Beirut... Unmute 
 by Lamia Labban. Join us at NICO Kitchen + Bar on August 6\, 2025 at 6:00p
 m for a special exhibition featuring visual artist\, Lamia Labban.\n\nExpe
 rience the vibrant energy of Beirut through the eyes of Lamia. Don't miss 
 this unique opportunity to immerse yourself in the beauty of Lebanese art 
 right here in Newark.\n\n&nbsp\;\n\nArtist Statement:\n\nArt statement:The
  past with all its stories captivate me. I find joy in discovering myself 
 through art that reflects heritage and nostalgia. This mission allows my s
 oul to breath and my brush to create. The process of creation allows me to
  understand history\, understand the power of history\, the power of charm
 \, the power of alteration\, and the power of intention. I invite my brush
  to never dry and my living resources to unmute to keep portraying stories
  about Beirut.\n\nBeirut is a beautiful mosaic of many traditions\, faiths
  and civilizations\, that’s what makes it special and that’s what I li
 ke to paint!
ATTACH;FMTTYPE=image/jpeg:https://www.arabamerica.com/wp-content/uploads/2
 025/08/neww.jpeg
LOCATION:NICO Kitchen + Bar\, One Center Street \, Newark\, NJ\, 07102\, Un
 ited States
GEO:40.739107;-74.166457
X-APPLE-STRUCTURED-LOCATION;VALUE=URI;X-ADDRESS=One Center Street \, Newark
 \, NJ\, 07102\, United States;X-APPLE-RADIUS=100;X-TITLE=NICO Kitchen + Ba
 r:geo:40.739107,-74.166457
END:VEVENT
BEGIN:VTIMEZONE
TZID:America/Detroit
X-LIC-LOCATION:America/Detroit
BEGIN:DAYLIGHT
DTSTART:20250309T030000
TZOFFSETFROM:-0500
TZOFFSETTO:-0400
TZNAME:EDT
END:DAYLIGHT
END:VTIMEZONE
END:VCALENDAR