BEGIN:VCALENDAR
VERSION:2.0
PRODID:-//wp-events-plugin.com//7.2.3.1//EN
TZID:America/Detroit
X-WR-TIMEZONE:America/Detroit
BEGIN:VEVENT
UID:35666@arabamerica.com
DTSTART;TZID=America/Detroit:20260206T173000
DTEND;TZID=America/Detroit:20260206T200000
DTSTAMP:20260107T013007Z
URL:https://www.arabamerica.com/events/nextup-networking-chase-corktown/
SUMMARY:NextUp Networking: Chase Corktown
DESCRIPTION:\nOverview\n\n\n\n\n\nJoin us to connect with business pros at 
 the American Arab Chamber networking event!\n\n\n\n\nGet ready for Americ
 an Arab Chamber of Commerce's NEXTUP NETWORKING.\n\nConnect with fellow pr
 ofessionals\, small business owners\, and expand your contacts. Don't miss
  out on this chance to grow your network.\n\nEnjoy curated music from a DJ
 \, food from local vendors\, and a raffle featuring prizes from the best s
 pots in town.\n\nWe look forward to seeing you there!\n\n\n\n\n\n
ATTACH;FMTTYPE=image/jpeg:https://www.arabamerica.com/wp-content/uploads/2
 026/01/https___cdn.evbuc_.com_images_1173665774_1783926731343_1_original.j
 peg
LOCATION:Chase Bank\, 1620 Michigan Avenue #Ste 121 Ste 121\, Detroit\, MI\
 , 48216\, United States
GEO:42.331728;-83.067871
X-APPLE-STRUCTURED-LOCATION;VALUE=URI;X-ADDRESS=1620 Michigan Avenue #Ste 1
 21 Ste 121\, Detroit\, MI\, 48216\, United States;X-APPLE-RADIUS=100;X-TIT
 LE=Chase Bank:geo:42.331728,-83.067871
END:VEVENT
BEGIN:VTIMEZONE
TZID:America/Detroit
X-LIC-LOCATION:America/Detroit
BEGIN:STANDARD
DTSTART:20251102T010000
TZOFFSETFROM:-0400
TZOFFSETTO:-0500
TZNAME:EST
END:STANDARD
END:VTIMEZONE
END:VCALENDAR