BEGIN:VCALENDAR
VERSION:2.0
PRODID:-//wp-events-plugin.com//7.2.3.1//EN
TZID:America/Detroit
X-WR-TIMEZONE:America/Detroit
BEGIN:VEVENT
UID:35575@arabamerica.com
DTSTART:20260208T190000Z
DTEND:20260209T000000Z
DTSTAMP:20251216T171455Z
URL:https://www.arabamerica.com/events/nhsp-ramadan-marketplace-2026/
SUMMARY:NHSP Ramadan Marketplace 2026
DESCRIPTION:\n\nOverview\n\n\n\n\n\nJoin us at New Horizon School Pasadena 
 for a fun Ramadan Marketplace filled with crafts\, halal food\, and commun
 ity vibes!\n\n\n\nWelcome to the New Horizon School Pasadena Ramadan Mark
 etplace 2026!\nJoin us for a fun and lively in-person gathering celebrat
 ing Ramadan's spirit. Explore unique stalls\, enjoy delicious halal treats
 \, and connect with the community. Whether you're here to shop\, eat\, or 
 just soak up the festive vibe\, there's something for everyone. Don't miss
  out on this exciting event at New Horizon School Pasadena!\n\nWe are happ
 y to feature local Altadena &amp\; Pasadena vendors affected by the fires
 .\n\nIf you would like to be a vendor at our event please Sign-up Here.\n
 \n\n\n\n\n
LOCATION:New Horizon School\, 651 Orange Grove Boulevard\, Pasadena\, CA\, 
 91103\, United States
GEO:34.155395;-118.156598
X-APPLE-STRUCTURED-LOCATION;VALUE=URI;X-ADDRESS=651 Orange Grove Boulevard\
 , Pasadena\, CA\, 91103\, United States;X-APPLE-RADIUS=100;X-TITLE=New Hor
 izon School:geo:34.155395,-118.156598
END:VEVENT
END:VCALENDAR