BEGIN:VCALENDAR
VERSION:2.0
PRODID:-//wp-events-plugin.com//7.2.3.1//EN
TZID:America/Detroit
X-WR-TIMEZONE:America/Detroit
BEGIN:VEVENT
UID:33056@arabamerica.com
DTSTART;TZID=America/Detroit:20240628T180000
DTEND;TZID=America/Detroit:20240628T215000
DTSTAMP:20240618T073529Z
URL:https://www.arabamerica.com/events/nisrins-art-studio-perfoming-arts-t
 alent-show/
SUMMARY:Nisrin’s Art Studio Perfoming Arts Talent Show
DESCRIPTION:\n\nThe NAS Performance Art Talent Show is an annual event that
  celebrates local emerging artists through diverse performances in dance\,
  music\, theater\, and spoken word\, aiming to foster talent and cultural 
 enrichment in the Muslim community.\n\n&#x1f31f\;&#x2728\; **Creative Soli
 darity with Gaza! &#x2728\;&#x1f31f\;**\n\nJoin us this year at Nisrin's A
 rt Studio Talent Show to amplify the voices of Gaza through creativity. Th
 is event isn't just entertainment\; it's a platform to showcase resilience
  and unity. With performances\, food\, and merchandise vendors\, it's a ch
 ance to make a difference. Let's unite our voices\, hearts\, and creativit
 y to spread hope and love to Gaza. &#x1f3ad\;&#x1f3b6\;&#x1f496\; #StandWi
 thGaza #Unity #Hope\n\n\n6:50 PM - 7:50 PM\nTalent Show Contest\n\n\n\n\n\
 n8:00 PM - 8:50 PM\nConcessions Break\n\n\n\n\n\n9:00 PM - 9:50 PM\nTalent
  Show Performance\n\n\n\nIf you are interested in performing or in vending
  please email me at\n\nShahin.nisrin@gmail.com\n\nFollow us on Instagram :
 \n\n@nisrinsartstudio
ATTACH;FMTTYPE=image/jpeg:https://www.arabamerica.com/wp-content/uploads/2
 024/06/Screenshot-2024-06-18-at-12.29.26-AM.png
LOCATION:The White Magnolia\, 3761 Summer Boulevard\, Raleigh\, NC\, 27616\
 , United States
GEO:35.877441;-78.554728
X-APPLE-STRUCTURED-LOCATION;VALUE=URI;X-ADDRESS=3761 Summer Boulevard\, Ral
 eigh\, NC\, 27616\, United States;X-APPLE-RADIUS=100;X-TITLE=The White Mag
 nolia:geo:35.877441,-78.554728
END:VEVENT
BEGIN:VTIMEZONE
TZID:America/Detroit
X-LIC-LOCATION:America/Detroit
BEGIN:DAYLIGHT
DTSTART:20240310T030000
TZOFFSETFROM:-0500
TZOFFSETTO:-0400
TZNAME:EDT
END:DAYLIGHT
END:VTIMEZONE
END:VCALENDAR