BEGIN:VCALENDAR
VERSION:2.0
PRODID:-//wp-events-plugin.com//7.2.3.1//EN
TZID:America/Detroit
X-WR-TIMEZONE:America/Detroit
BEGIN:VEVENT
UID:32205@arabamerica.com
DTSTART;TZID=America/Detroit:20240220T213000
DTEND;TZID=America/Detroit:20240220T220000
DTSTAMP:20240206T040139Z
URL:https://www.arabamerica.com/events/no-more-stupid-a-fundraiser-show-fo
 r-palestine-legal-and-esims-for-gaza/
SUMMARY:No More Stupid: A Fundraiser Show for Palestine Legal and eSIMs for
  Gaza
DESCRIPTION:\nAbout this event\n\nNo More Stupid is a recurring fundraiser 
 show uniting the best comedians in New York City in support of very import
 ant causes.\n\n\n\n\n\n\n\nNo More Stupid is a recurring fundraiser show u
 niting the best comedians in New York City in support of very important ca
 uses.\n\nAll of the proceeds from this month’s No More Stupid will go to
 wards Palestine Legal and eSIMs for Gaza.\n\nNo More Stupid is hosted b
 y firmly anti-stupid comedians Jo Sunday\, Liva Pierce\, and Anne Lim.\n\n
 FEATURING:\nMalik Elassal (Don’t Tell Comedy\, JFL)\nBrittany Carney (Co
 medy Central\, HBOMax)\nNatalie Rotter-Laitman (Vulture\, Exploration: Liv
 e!)\nEsther Fallick (Vulture\, New York Comedy Festival)\nFareeha Khan (Co
 medy Central\, Man Repeller)\n\n\nAges\; 21+  \n\n\n\n\n
ATTACH;FMTTYPE=image/jpeg:https://www.arabamerica.com/wp-content/uploads/2
 024/02/Screen-Shot-2024-02-05-at-11.00.46-PM.png
LOCATION:Caveat\, 21 A Clinton Street\, Manhattan\, NY\, 10002\, United Sta
 tes
GEO:40.7206657;-73.98449310000001
X-APPLE-STRUCTURED-LOCATION;VALUE=URI;X-ADDRESS=21 A Clinton Street\, Manha
 ttan\, NY\, 10002\, United States;X-APPLE-RADIUS=100;X-TITLE=Caveat:geo:40
 .7206657,-73.98449310000001
END:VEVENT
BEGIN:VTIMEZONE
TZID:America/Detroit
X-LIC-LOCATION:America/Detroit
BEGIN:STANDARD
DTSTART:20231105T010000
TZOFFSETFROM:-0400
TZOFFSETTO:-0500
TZNAME:EST
END:STANDARD
END:VTIMEZONE
END:VCALENDAR