BEGIN:VCALENDAR
VERSION:2.0
PRODID:-//wp-events-plugin.com//7.2.3.1//EN
TZID:America/Detroit
X-WR-TIMEZONE:America/Detroit
BEGIN:VEVENT
UID:34647@arabamerica.com
DTSTART;TZID=America/Detroit:20250626T180000
DTEND;TZID=America/Detroit:20250626T210000
DTSTAMP:20250624T161755Z
URL:https://www.arabamerica.com/events/no-other-land-4/
SUMMARY:No Other Land
DESCRIPTION:DENVER\, CO\n\n&nbsp\;\n\nWe’re excited to announce an upcomi
 ng screening of the Academy Award-winning documentary No Other Land in Den
 ver – and we’d love for you to join us and help spread the word!\n\nWh
 en: Thursday\, June 26 @ 6:30 pm-9 (doors at 6\, screening at 6:30\, panel
  after at 8:15)\nWhere: SIE FilmCenter (2510 E Colfax Ave\, Denver\, CO 80
 206)\n\nAll ticket sales and additional donations with go to the Masafer Y
 atts Solidarity Fund.\n\nTickets available at https://tinyurl.com/DenverNo
 OtherLand\n\nSponsors: Center for Jewish Nonviolence\, Denver/Boulder Jewi
 sh Voice for Peace\, Colorado Palestine Coalition and Denver USPCN
ATTACH;FMTTYPE=image/jpeg:https://www.arabamerica.com/wp-content/uploads/2
 025/06/Screenshot-2025-06-24-at-7.14.16 PM.png
LOCATION:SIE Film Center\, 2510 E Colfax Ave\, Denver\, Colorado\, 80206\, 
 United States
GEO:39.739877;-104.95693
X-APPLE-STRUCTURED-LOCATION;VALUE=URI;X-ADDRESS=2510 E Colfax Ave\, Denver\
 , Colorado\, 80206\, United States;X-APPLE-RADIUS=100;X-TITLE=SIE Film Cen
 ter:geo:39.739877,-104.95693
END:VEVENT
BEGIN:VTIMEZONE
TZID:America/Detroit
X-LIC-LOCATION:America/Detroit
BEGIN:DAYLIGHT
DTSTART:20250309T030000
TZOFFSETFROM:-0500
TZOFFSETTO:-0400
TZNAME:EDT
END:DAYLIGHT
END:VTIMEZONE
END:VCALENDAR