BEGIN:VCALENDAR
VERSION:2.0
PRODID:-//wp-events-plugin.com//7.2.3.1//EN
TZID:America/Detroit
X-WR-TIMEZONE:America/Detroit
BEGIN:VEVENT
UID:35301@arabamerica.com
DTSTART;TZID=America/Chicago:20251022T180000
DTEND;TZID=America/Chicago:20251022T210000
DTSTAMP:20251022T011005Z
URL:https://www.arabamerica.com/events/no-other-land-lake-forest/
SUMMARY:No Other Land - Lake Forest
DESCRIPTION:LAKE FOREST\, IL\n\nYOU’RE INVITED — Special Screening of t
 he Award-Winning Documentary “No Other Land”\n\nJoin us for an unforge
 ttable evening as we screen the Academy Award-winning documentary No Ot
 her Land\, a powerful film capturing the heartbreaking reality of land the
 ft\, displacement\, and the enduring resilience of the Palestinian people.
 \n\n&#x1f5d3\;&#xfe0f\; Wednesday\, October 22\, 2025&#x1f555\; 6:00 PM 
 (CST)&#x1f4cd\; Gorton Center — 400 E. Illinois Rd.\, Lake Forest\, IL 
 60045\n\n&#x1f3ac\; Followed by a meaningful panel discussion\n\n&#x1f39f
 \;&#xfe0f\; Free Admission — In Person Only\n\nLight refreshments will b
 e served.\n\nThis evening is not just a film screening—it’s a gatherin
 g of conscience\, conversation\, and community. Please invite others who c
 are about justice\, dignity\, and truth.\n\nWe look forward to hosting you
 .\n\nLiam\, Rana &amp\; Sawsan
LOCATION:Gorton Center\, 400 East Illinois Road \, Lake Forest \, Illinois 
 \, 60045\, United States
GEO:42.250672;-87.837367
X-APPLE-STRUCTURED-LOCATION;VALUE=URI;X-ADDRESS=400 East Illinois Road \, L
 ake Forest \, Illinois \, 60045\, United States;X-APPLE-RADIUS=100;X-TITLE
 =Gorton Center:geo:42.250672,-87.837367
END:VEVENT
BEGIN:VTIMEZONE
TZID:America/Chicago
X-LIC-LOCATION:America/Chicago
BEGIN:DAYLIGHT
DTSTART:20250309T030000
TZOFFSETFROM:-0600
TZOFFSETTO:-0500
TZNAME:CDT
END:DAYLIGHT
END:VTIMEZONE
END:VCALENDAR