BEGIN:VCALENDAR
VERSION:2.0
PRODID:-//wp-events-plugin.com//7.2.3.1//EN
TZID:America/Detroit
X-WR-TIMEZONE:America/Detroit
BEGIN:VEVENT
UID:34394@arabamerica.com
DTSTART;TZID=America/Detroit:20250508T183000
DTEND;TZID=America/Detroit:20250508T183000
DTSTAMP:20250506T175312Z
URL:https://www.arabamerica.com/events/no-other-land-screening/
SUMMARY:No Other Land Screening
DESCRIPTION:WASHINGTON\, DC\n\n&nbsp\;\n\nBol Coop\, in collaboration with 
 JVP and The Festival Center\, invites you to the screening of No Other Lan
 d.\n\nBasel Adra has been documenting the expulsion and decimation of his 
 community in the small mountain village of Masafer Yatta in the southern W
 est Bank since childhood. Adra’s early memories as a child are plagued w
 ith images of Israeli soldiers raiding his home\, witnessing his father Na
 sser\, a Palestinian activist\, being arrested\, and the ongoing Israeli m
 ilitary occupation and settler aggression. By picking up his camera\, Adra
  continually speaks truth to power as he tirelessly documents his reality:
  impending forced removals\, bulldozers destroying homes\, and the violenc
 e that inevitably follows. The film takes place prior to October 7\, 2023\
 , when attention to the region was in shorter supply.\n\n1 HR 36 Min\n\nWe
  want our events to remain accessible. Please consider donating. Please al
 so only register if you plan to attend.
ATTACH;FMTTYPE=image/jpeg:https://www.arabamerica.com/wp-content/uploads/2
 025/05/Screenshot-2025-05-06-at-1.53.06 PM.png
LOCATION:The Festival Center\, 1640 Columbia Rd NW\, Washington\, District 
 of Columbia\, 20009\, United States
GEO:38.925254;-77.0381415
X-APPLE-STRUCTURED-LOCATION;VALUE=URI;X-ADDRESS=1640 Columbia Rd NW\, Washi
 ngton\, District of Columbia\, 20009\, United States;X-APPLE-RADIUS=100;X-
 TITLE=The Festival Center:geo:38.925254,-77.0381415
END:VEVENT
BEGIN:VTIMEZONE
TZID:America/Detroit
X-LIC-LOCATION:America/Detroit
BEGIN:DAYLIGHT
DTSTART:20250309T030000
TZOFFSETFROM:-0500
TZOFFSETTO:-0400
TZNAME:EDT
END:DAYLIGHT
END:VTIMEZONE
END:VCALENDAR